BEGIN:VCALENDAR
VERSION:2.0
PRODID:-//Iuka Methodist Church - ECPv6.15.20//NONSGML v1.0//EN
CALSCALE:GREGORIAN
METHOD:PUBLISH
X-ORIGINAL-URL:https://iukamethodist.com
X-WR-CALDESC:Events for Iuka Methodist Church
REFRESH-INTERVAL;VALUE=DURATION:PT1H
X-Robots-Tag:noindex
X-PUBLISHED-TTL:PT1H
BEGIN:VTIMEZONE
TZID:UTC
BEGIN:STANDARD
TZOFFSETFROM:+0000
TZOFFSETTO:+0000
TZNAME:UTC
DTSTART:20290101T000000
END:STANDARD
END:VTIMEZONE
BEGIN:VEVENT
DTSTART;TZID=UTC:20301013T090000
DTEND;TZID=UTC:20301013T120000
DTSTAMP:20260424T142727
CREATED:20260306T202906Z
LAST-MODIFIED:20260312T161233Z
UID:10000544-1918112400-1918123200@iukamethodist.com
SUMMARY:Sunday Worship
DESCRIPTION:Common Grounds Worship  9:00 A.M. \nSunday School.    10:00 A.M. \nTraditional Worship.  11:00 A.M.
URL:https://iukamethodist.com/event/sunday-worship-3/2030-10-13/
LOCATION:Iuka Methodist Church\, 101 East Eastport St.\, Iuka\, MS\, 38852\, United States
ATTACH;FMTTYPE=image/jpeg:https://iukamethodist.com/wp-content/uploads/2026/03/bible.jpeg
END:VEVENT
BEGIN:VEVENT
DTSTART;TZID=UTC:20301015T100000
DTEND;TZID=UTC:20301015T120000
DTSTAMP:20260424T142727
CREATED:20260306T203645Z
LAST-MODIFIED:20260311T160707Z
UID:10001030-1918288800-1918296000@iukamethodist.com
SUMMARY:Prayer Shawl Ministry
DESCRIPTION:Our mission is to create prayer shawls\, baby blankets\, hats\, scarves and throws for those in need of prayers and praises.\nAnyone is welcome to join. We provide instruction for those who want to learn how to crochet or knit.\nContact Iuka Methodist Church office for more information. \n1st and 3rd Tuesdays @ 10am \n2nd and 4th Tuesdays @ 5pm \nSuzanne Rutledge classroom
URL:https://iukamethodist.com/event/prayer-shawl-ministry-9/2030-10-15/
LOCATION:Iuka Methodist Church\, 101 East Eastport St.\, Iuka\, MS\, 38852\, United States
ATTACH;FMTTYPE=image/jpeg:https://iukamethodist.com/wp-content/uploads/2026/02/20250428_141238-scaled.jpg
END:VEVENT
BEGIN:VEVENT
DTSTART;TZID=UTC:20301016T173000
DTEND;TZID=UTC:20301016T190000
DTSTAMP:20260424T142727
CREATED:20260306T204636Z
LAST-MODIFIED:20260312T162043Z
UID:10000291-1918402200-1918407600@iukamethodist.com
SUMMARY:Wonderful Wednesday
DESCRIPTION:To reserve a meal\, please call the church office by 12:00 p.m. on Monday. If you need to cancel\, please do so before noon on Monday. \nThe cost for adults is $7.00 and $5.00 for children 10 and under. Come eat then stay for one of our studies or Choir practice. Please make a reservation for each meal so we can order enough food.
URL:https://iukamethodist.com/event/wonderful-wednesday-4/2030-10-16/
LOCATION:Iuka Methodist Church\, 101 East Eastport St.\, Iuka\, MS\, 38852\, United States
ATTACH;FMTTYPE=image/jpeg:https://iukamethodist.com/wp-content/uploads/2026/03/prayer20hands20sized.jpg
END:VEVENT
BEGIN:VEVENT
DTSTART;TZID=UTC:20301020T090000
DTEND;TZID=UTC:20301020T120000
DTSTAMP:20260424T142727
CREATED:20260306T202906Z
LAST-MODIFIED:20260312T161233Z
UID:10000545-1918717200-1918728000@iukamethodist.com
SUMMARY:Sunday Worship
DESCRIPTION:Common Grounds Worship  9:00 A.M. \nSunday School.    10:00 A.M. \nTraditional Worship.  11:00 A.M.
URL:https://iukamethodist.com/event/sunday-worship-3/2030-10-20/
LOCATION:Iuka Methodist Church\, 101 East Eastport St.\, Iuka\, MS\, 38852\, United States
ATTACH;FMTTYPE=image/jpeg:https://iukamethodist.com/wp-content/uploads/2026/03/bible.jpeg
END:VEVENT
BEGIN:VEVENT
DTSTART;TZID=UTC:20301021T180000
DTEND;TZID=UTC:20301021T200000
DTSTAMP:20260424T142727
CREATED:20260306T202503Z
LAST-MODIFIED:20260311T155704Z
UID:10000912-1918836000-1918843200@iukamethodist.com
SUMMARY:Tishomingo Jam
DESCRIPTION: 
URL:https://iukamethodist.com/event/tishomingo-jam-4/2030-10-21/
LOCATION:Iuka Methodist Church\, 101 East Eastport St.\, Iuka\, MS\, 38852\, United States
ATTACH;FMTTYPE=image/jpeg:https://iukamethodist.com/wp-content/uploads/2026/01/526548975_3553752741428594_4412842756949622737_n.jpg
END:VEVENT
BEGIN:VEVENT
DTSTART;TZID=UTC:20301022T170000
DTEND;TZID=UTC:20301022T183000
DTSTAMP:20260424T142727
CREATED:20260306T203836Z
LAST-MODIFIED:20260311T160951Z
UID:10001088-1918918800-1918924200@iukamethodist.com
SUMMARY:Prayer Shawl Ministry
DESCRIPTION:Our mission is to create prayer shawls\, baby blankets\, hats\, scarves and throws for those in need of prayers and praises.\nAnyone is welcome to join. We provide instruction for those who want to learn how to crochet or knit.\nContact Iuka Methodist Church office for more information. \n1st and 3rd Tuesdays @ 10am \n2nd and 4th Tuesdays @ 5pm \nSuzanne Rutledge classroom
URL:https://iukamethodist.com/event/prayer-shawl-ministry-10/2030-10-22/
LOCATION:Iuka Methodist Church\, 101 East Eastport St.\, Iuka\, MS\, 38852\, United States
ATTACH;FMTTYPE=image/jpeg:https://iukamethodist.com/wp-content/uploads/2026/02/20250428_141238-scaled.jpg
END:VEVENT
BEGIN:VEVENT
DTSTART;TZID=UTC:20301023T173000
DTEND;TZID=UTC:20301023T190000
DTSTAMP:20260424T142727
CREATED:20260306T204636Z
LAST-MODIFIED:20260312T162043Z
UID:10000292-1919007000-1919012400@iukamethodist.com
SUMMARY:Wonderful Wednesday
DESCRIPTION:To reserve a meal\, please call the church office by 12:00 p.m. on Monday. If you need to cancel\, please do so before noon on Monday. \nThe cost for adults is $7.00 and $5.00 for children 10 and under. Come eat then stay for one of our studies or Choir practice. Please make a reservation for each meal so we can order enough food.
URL:https://iukamethodist.com/event/wonderful-wednesday-4/2030-10-23/
LOCATION:Iuka Methodist Church\, 101 East Eastport St.\, Iuka\, MS\, 38852\, United States
ATTACH;FMTTYPE=image/jpeg:https://iukamethodist.com/wp-content/uploads/2026/03/prayer20hands20sized.jpg
END:VEVENT
BEGIN:VEVENT
DTSTART;TZID=UTC:20301027T090000
DTEND;TZID=UTC:20301027T120000
DTSTAMP:20260424T142727
CREATED:20260306T202906Z
LAST-MODIFIED:20260312T161233Z
UID:10000546-1919322000-1919332800@iukamethodist.com
SUMMARY:Sunday Worship
DESCRIPTION:Common Grounds Worship  9:00 A.M. \nSunday School.    10:00 A.M. \nTraditional Worship.  11:00 A.M.
URL:https://iukamethodist.com/event/sunday-worship-3/2030-10-27/
LOCATION:Iuka Methodist Church\, 101 East Eastport St.\, Iuka\, MS\, 38852\, United States
ATTACH;FMTTYPE=image/jpeg:https://iukamethodist.com/wp-content/uploads/2026/03/bible.jpeg
END:VEVENT
BEGIN:VEVENT
DTSTART;TZID=UTC:20301030T173000
DTEND;TZID=UTC:20301030T190000
DTSTAMP:20260424T142727
CREATED:20260306T204636Z
LAST-MODIFIED:20260312T162043Z
UID:10000293-1919611800-1919617200@iukamethodist.com
SUMMARY:Wonderful Wednesday
DESCRIPTION:To reserve a meal\, please call the church office by 12:00 p.m. on Monday. If you need to cancel\, please do so before noon on Monday. \nThe cost for adults is $7.00 and $5.00 for children 10 and under. Come eat then stay for one of our studies or Choir practice. Please make a reservation for each meal so we can order enough food.
URL:https://iukamethodist.com/event/wonderful-wednesday-4/2030-10-30/
LOCATION:Iuka Methodist Church\, 101 East Eastport St.\, Iuka\, MS\, 38852\, United States
ATTACH;FMTTYPE=image/jpeg:https://iukamethodist.com/wp-content/uploads/2026/03/prayer20hands20sized.jpg
END:VEVENT
BEGIN:VEVENT
DTSTART;TZID=UTC:20301103T090000
DTEND;TZID=UTC:20301103T120000
DTSTAMP:20260424T142727
CREATED:20260306T202906Z
LAST-MODIFIED:20260312T161233Z
UID:10000547-1919926800-1919937600@iukamethodist.com
SUMMARY:Sunday Worship
DESCRIPTION:Common Grounds Worship  9:00 A.M. \nSunday School.    10:00 A.M. \nTraditional Worship.  11:00 A.M.
URL:https://iukamethodist.com/event/sunday-worship-3/2030-11-03/
LOCATION:Iuka Methodist Church\, 101 East Eastport St.\, Iuka\, MS\, 38852\, United States
ATTACH;FMTTYPE=image/jpeg:https://iukamethodist.com/wp-content/uploads/2026/03/bible.jpeg
END:VEVENT
BEGIN:VEVENT
DTSTART;TZID=UTC:20301104T180000
DTEND;TZID=UTC:20301104T200000
DTSTAMP:20260424T142727
CREATED:20260306T201135Z
LAST-MODIFIED:20260311T155742Z
UID:10000971-1920045600-1920052800@iukamethodist.com
SUMMARY:Tishomingo Jam
DESCRIPTION: 
URL:https://iukamethodist.com/event/tishomingo-jam-2/2030-11-04/
LOCATION:Iuka Methodist Church\, 101 East Eastport St.\, Iuka\, MS\, 38852\, United States
ATTACH;FMTTYPE=image/jpeg:https://iukamethodist.com/wp-content/uploads/2026/01/526548975_3553752741428594_4412842756949622737_n.jpg
END:VEVENT
BEGIN:VEVENT
DTSTART;TZID=UTC:20301105T100000
DTEND;TZID=UTC:20301105T120000
DTSTAMP:20260424T142727
CREATED:20260306T203321Z
LAST-MODIFIED:20260311T155514Z
UID:10000795-1920103200-1920110400@iukamethodist.com
SUMMARY:Prayer Shawl Ministry
DESCRIPTION:Our mission is to create prayer shawls\, baby blankets\, hats\, scarves and throws for those in need of prayers and praises.\nAnyone is welcome to join. We provide instruction for those who want to learn how to crochet or knit.\nContact Iuka Methodist Church office for more information. \n1st and 3rd Tuesdays @ 10am \n2nd and 4th Tuesdays @ 5pm \nSuzanne Rutledge classroom
URL:https://iukamethodist.com/event/prayer-shawl-ministry-7/2030-11-05/
LOCATION:Iuka Methodist Church\, 101 East Eastport St.\, Iuka\, MS\, 38852\, United States
ATTACH;FMTTYPE=image/jpeg:https://iukamethodist.com/wp-content/uploads/2026/02/20250428_141238-scaled.jpg
END:VEVENT
BEGIN:VEVENT
DTSTART;TZID=UTC:20301106T173000
DTEND;TZID=UTC:20301106T190000
DTSTAMP:20260424T142727
CREATED:20260306T204636Z
LAST-MODIFIED:20260312T162043Z
UID:10000294-1920216600-1920222000@iukamethodist.com
SUMMARY:Wonderful Wednesday
DESCRIPTION:To reserve a meal\, please call the church office by 12:00 p.m. on Monday. If you need to cancel\, please do so before noon on Monday. \nThe cost for adults is $7.00 and $5.00 for children 10 and under. Come eat then stay for one of our studies or Choir practice. Please make a reservation for each meal so we can order enough food.
URL:https://iukamethodist.com/event/wonderful-wednesday-4/2030-11-06/
LOCATION:Iuka Methodist Church\, 101 East Eastport St.\, Iuka\, MS\, 38852\, United States
ATTACH;FMTTYPE=image/jpeg:https://iukamethodist.com/wp-content/uploads/2026/03/prayer20hands20sized.jpg
END:VEVENT
BEGIN:VEVENT
DTSTART;TZID=UTC:20301110T090000
DTEND;TZID=UTC:20301110T120000
DTSTAMP:20260424T142727
CREATED:20260306T202906Z
LAST-MODIFIED:20260312T161233Z
UID:10000548-1920531600-1920542400@iukamethodist.com
SUMMARY:Sunday Worship
DESCRIPTION:Common Grounds Worship  9:00 A.M. \nSunday School.    10:00 A.M. \nTraditional Worship.  11:00 A.M.
URL:https://iukamethodist.com/event/sunday-worship-3/2030-11-10/
LOCATION:Iuka Methodist Church\, 101 East Eastport St.\, Iuka\, MS\, 38852\, United States
ATTACH;FMTTYPE=image/jpeg:https://iukamethodist.com/wp-content/uploads/2026/03/bible.jpeg
END:VEVENT
BEGIN:VEVENT
DTSTART;TZID=UTC:20301112T170000
DTEND;TZID=UTC:20301112T190000
DTSTAMP:20260424T142727
CREATED:20260306T203438Z
LAST-MODIFIED:20260311T155429Z
UID:10000736-1920733200-1920740400@iukamethodist.com
SUMMARY:Prayer Shawl Ministry
DESCRIPTION:Our mission is to create prayer shawls\, baby blankets\, hats\, scarves and throws for those in need of prayers and praises.\nAnyone is welcome to join. We provide instruction for those who want to learn how to crochet or knit.\nContact Iuka Methodist Church office for more information. \n1st and 3rd Tuesdays @ 10am \n2nd and 4th Tuesdays @ 5pm \nSuzanne Rutledge classroom
URL:https://iukamethodist.com/event/prayer-shawl-ministry-8/2030-11-12/
LOCATION:Iuka Methodist Church\, 101 East Eastport St.\, Iuka\, MS\, 38852\, United States
ATTACH;FMTTYPE=image/jpeg:https://iukamethodist.com/wp-content/uploads/2026/02/20250428_141238-scaled.jpg
END:VEVENT
BEGIN:VEVENT
DTSTART;TZID=UTC:20301112T180000
DTEND;TZID=UTC:20301112T200000
DTSTAMP:20260424T142727
CREATED:20260306T201952Z
LAST-MODIFIED:20260311T155604Z
UID:10000854-1920736800-1920744000@iukamethodist.com
SUMMARY:Northeast Mississippi Songwriters
DESCRIPTION:
URL:https://iukamethodist.com/event/northeast-mississippi-songwriters-2/2030-11-12/
LOCATION:Iuka Methodist Church\, 101 East Eastport St.\, Iuka\, MS\, 38852\, United States
END:VEVENT
BEGIN:VEVENT
DTSTART;TZID=UTC:20301113T173000
DTEND;TZID=UTC:20301113T190000
DTSTAMP:20260424T142727
CREATED:20260306T204636Z
LAST-MODIFIED:20260312T162043Z
UID:10000295-1920821400-1920826800@iukamethodist.com
SUMMARY:Wonderful Wednesday
DESCRIPTION:To reserve a meal\, please call the church office by 12:00 p.m. on Monday. If you need to cancel\, please do so before noon on Monday. \nThe cost for adults is $7.00 and $5.00 for children 10 and under. Come eat then stay for one of our studies or Choir practice. Please make a reservation for each meal so we can order enough food.
URL:https://iukamethodist.com/event/wonderful-wednesday-4/2030-11-13/
LOCATION:Iuka Methodist Church\, 101 East Eastport St.\, Iuka\, MS\, 38852\, United States
ATTACH;FMTTYPE=image/jpeg:https://iukamethodist.com/wp-content/uploads/2026/03/prayer20hands20sized.jpg
END:VEVENT
BEGIN:VEVENT
DTSTART;TZID=UTC:20301117T090000
DTEND;TZID=UTC:20301117T120000
DTSTAMP:20260424T142727
CREATED:20260306T202906Z
LAST-MODIFIED:20260312T161233Z
UID:10000549-1921136400-1921147200@iukamethodist.com
SUMMARY:Sunday Worship
DESCRIPTION:Common Grounds Worship  9:00 A.M. \nSunday School.    10:00 A.M. \nTraditional Worship.  11:00 A.M.
URL:https://iukamethodist.com/event/sunday-worship-3/2030-11-17/
LOCATION:Iuka Methodist Church\, 101 East Eastport St.\, Iuka\, MS\, 38852\, United States
ATTACH;FMTTYPE=image/jpeg:https://iukamethodist.com/wp-content/uploads/2026/03/bible.jpeg
END:VEVENT
BEGIN:VEVENT
DTSTART;TZID=UTC:20301118T180000
DTEND;TZID=UTC:20301118T200000
DTSTAMP:20260424T142727
CREATED:20260306T202503Z
LAST-MODIFIED:20260311T155704Z
UID:10000913-1921255200-1921262400@iukamethodist.com
SUMMARY:Tishomingo Jam
DESCRIPTION: 
URL:https://iukamethodist.com/event/tishomingo-jam-4/2030-11-18/
LOCATION:Iuka Methodist Church\, 101 East Eastport St.\, Iuka\, MS\, 38852\, United States
ATTACH;FMTTYPE=image/jpeg:https://iukamethodist.com/wp-content/uploads/2026/01/526548975_3553752741428594_4412842756949622737_n.jpg
END:VEVENT
BEGIN:VEVENT
DTSTART;TZID=UTC:20301119T100000
DTEND;TZID=UTC:20301119T120000
DTSTAMP:20260424T142727
CREATED:20260306T203645Z
LAST-MODIFIED:20260311T160707Z
UID:10001031-1921312800-1921320000@iukamethodist.com
SUMMARY:Prayer Shawl Ministry
DESCRIPTION:Our mission is to create prayer shawls\, baby blankets\, hats\, scarves and throws for those in need of prayers and praises.\nAnyone is welcome to join. We provide instruction for those who want to learn how to crochet or knit.\nContact Iuka Methodist Church office for more information. \n1st and 3rd Tuesdays @ 10am \n2nd and 4th Tuesdays @ 5pm \nSuzanne Rutledge classroom
URL:https://iukamethodist.com/event/prayer-shawl-ministry-9/2030-11-19/
LOCATION:Iuka Methodist Church\, 101 East Eastport St.\, Iuka\, MS\, 38852\, United States
ATTACH;FMTTYPE=image/jpeg:https://iukamethodist.com/wp-content/uploads/2026/02/20250428_141238-scaled.jpg
END:VEVENT
BEGIN:VEVENT
DTSTART;TZID=UTC:20301120T173000
DTEND;TZID=UTC:20301120T190000
DTSTAMP:20260424T142727
CREATED:20260306T204636Z
LAST-MODIFIED:20260312T162043Z
UID:10000296-1921426200-1921431600@iukamethodist.com
SUMMARY:Wonderful Wednesday
DESCRIPTION:To reserve a meal\, please call the church office by 12:00 p.m. on Monday. If you need to cancel\, please do so before noon on Monday. \nThe cost for adults is $7.00 and $5.00 for children 10 and under. Come eat then stay for one of our studies or Choir practice. Please make a reservation for each meal so we can order enough food.
URL:https://iukamethodist.com/event/wonderful-wednesday-4/2030-11-20/
LOCATION:Iuka Methodist Church\, 101 East Eastport St.\, Iuka\, MS\, 38852\, United States
ATTACH;FMTTYPE=image/jpeg:https://iukamethodist.com/wp-content/uploads/2026/03/prayer20hands20sized.jpg
END:VEVENT
BEGIN:VEVENT
DTSTART;TZID=UTC:20301124T090000
DTEND;TZID=UTC:20301124T120000
DTSTAMP:20260424T142727
CREATED:20260306T202906Z
LAST-MODIFIED:20260312T161233Z
UID:10000550-1921741200-1921752000@iukamethodist.com
SUMMARY:Sunday Worship
DESCRIPTION:Common Grounds Worship  9:00 A.M. \nSunday School.    10:00 A.M. \nTraditional Worship.  11:00 A.M.
URL:https://iukamethodist.com/event/sunday-worship-3/2030-11-24/
LOCATION:Iuka Methodist Church\, 101 East Eastport St.\, Iuka\, MS\, 38852\, United States
ATTACH;FMTTYPE=image/jpeg:https://iukamethodist.com/wp-content/uploads/2026/03/bible.jpeg
END:VEVENT
BEGIN:VEVENT
DTSTART;TZID=UTC:20301126T170000
DTEND;TZID=UTC:20301126T183000
DTSTAMP:20260424T142727
CREATED:20260306T203836Z
LAST-MODIFIED:20260311T160951Z
UID:10001089-1921942800-1921948200@iukamethodist.com
SUMMARY:Prayer Shawl Ministry
DESCRIPTION:Our mission is to create prayer shawls\, baby blankets\, hats\, scarves and throws for those in need of prayers and praises.\nAnyone is welcome to join. We provide instruction for those who want to learn how to crochet or knit.\nContact Iuka Methodist Church office for more information. \n1st and 3rd Tuesdays @ 10am \n2nd and 4th Tuesdays @ 5pm \nSuzanne Rutledge classroom
URL:https://iukamethodist.com/event/prayer-shawl-ministry-10/2030-11-26/
LOCATION:Iuka Methodist Church\, 101 East Eastport St.\, Iuka\, MS\, 38852\, United States
ATTACH;FMTTYPE=image/jpeg:https://iukamethodist.com/wp-content/uploads/2026/02/20250428_141238-scaled.jpg
END:VEVENT
BEGIN:VEVENT
DTSTART;TZID=UTC:20301127T173000
DTEND;TZID=UTC:20301127T190000
DTSTAMP:20260424T142727
CREATED:20260306T204636Z
LAST-MODIFIED:20260312T162043Z
UID:10000297-1922031000-1922036400@iukamethodist.com
SUMMARY:Wonderful Wednesday
DESCRIPTION:To reserve a meal\, please call the church office by 12:00 p.m. on Monday. If you need to cancel\, please do so before noon on Monday. \nThe cost for adults is $7.00 and $5.00 for children 10 and under. Come eat then stay for one of our studies or Choir practice. Please make a reservation for each meal so we can order enough food.
URL:https://iukamethodist.com/event/wonderful-wednesday-4/2030-11-27/
LOCATION:Iuka Methodist Church\, 101 East Eastport St.\, Iuka\, MS\, 38852\, United States
ATTACH;FMTTYPE=image/jpeg:https://iukamethodist.com/wp-content/uploads/2026/03/prayer20hands20sized.jpg
END:VEVENT
BEGIN:VEVENT
DTSTART;TZID=UTC:20301201T090000
DTEND;TZID=UTC:20301201T120000
DTSTAMP:20260424T142727
CREATED:20260306T202906Z
LAST-MODIFIED:20260312T161233Z
UID:10000551-1922346000-1922356800@iukamethodist.com
SUMMARY:Sunday Worship
DESCRIPTION:Common Grounds Worship  9:00 A.M. \nSunday School.    10:00 A.M. \nTraditional Worship.  11:00 A.M.
URL:https://iukamethodist.com/event/sunday-worship-3/2030-12-01/
LOCATION:Iuka Methodist Church\, 101 East Eastport St.\, Iuka\, MS\, 38852\, United States
ATTACH;FMTTYPE=image/jpeg:https://iukamethodist.com/wp-content/uploads/2026/03/bible.jpeg
END:VEVENT
BEGIN:VEVENT
DTSTART;TZID=UTC:20301202T180000
DTEND;TZID=UTC:20301202T200000
DTSTAMP:20260424T142727
CREATED:20260306T201135Z
LAST-MODIFIED:20260311T155742Z
UID:10000972-1922464800-1922472000@iukamethodist.com
SUMMARY:Tishomingo Jam
DESCRIPTION: 
URL:https://iukamethodist.com/event/tishomingo-jam-2/2030-12-02/
LOCATION:Iuka Methodist Church\, 101 East Eastport St.\, Iuka\, MS\, 38852\, United States
ATTACH;FMTTYPE=image/jpeg:https://iukamethodist.com/wp-content/uploads/2026/01/526548975_3553752741428594_4412842756949622737_n.jpg
END:VEVENT
BEGIN:VEVENT
DTSTART;TZID=UTC:20301203T100000
DTEND;TZID=UTC:20301203T120000
DTSTAMP:20260424T142727
CREATED:20260306T203321Z
LAST-MODIFIED:20260311T155514Z
UID:10000796-1922522400-1922529600@iukamethodist.com
SUMMARY:Prayer Shawl Ministry
DESCRIPTION:Our mission is to create prayer shawls\, baby blankets\, hats\, scarves and throws for those in need of prayers and praises.\nAnyone is welcome to join. We provide instruction for those who want to learn how to crochet or knit.\nContact Iuka Methodist Church office for more information. \n1st and 3rd Tuesdays @ 10am \n2nd and 4th Tuesdays @ 5pm \nSuzanne Rutledge classroom
URL:https://iukamethodist.com/event/prayer-shawl-ministry-7/2030-12-03/
LOCATION:Iuka Methodist Church\, 101 East Eastport St.\, Iuka\, MS\, 38852\, United States
ATTACH;FMTTYPE=image/jpeg:https://iukamethodist.com/wp-content/uploads/2026/02/20250428_141238-scaled.jpg
END:VEVENT
BEGIN:VEVENT
DTSTART;TZID=UTC:20301204T173000
DTEND;TZID=UTC:20301204T190000
DTSTAMP:20260424T142727
CREATED:20260306T204636Z
LAST-MODIFIED:20260312T162043Z
UID:10000298-1922635800-1922641200@iukamethodist.com
SUMMARY:Wonderful Wednesday
DESCRIPTION:To reserve a meal\, please call the church office by 12:00 p.m. on Monday. If you need to cancel\, please do so before noon on Monday. \nThe cost for adults is $7.00 and $5.00 for children 10 and under. Come eat then stay for one of our studies or Choir practice. Please make a reservation for each meal so we can order enough food.
URL:https://iukamethodist.com/event/wonderful-wednesday-4/2030-12-04/
LOCATION:Iuka Methodist Church\, 101 East Eastport St.\, Iuka\, MS\, 38852\, United States
ATTACH;FMTTYPE=image/jpeg:https://iukamethodist.com/wp-content/uploads/2026/03/prayer20hands20sized.jpg
END:VEVENT
BEGIN:VEVENT
DTSTART;TZID=UTC:20301208T090000
DTEND;TZID=UTC:20301208T120000
DTSTAMP:20260424T142727
CREATED:20260306T202906Z
LAST-MODIFIED:20260312T161233Z
UID:10000552-1922950800-1922961600@iukamethodist.com
SUMMARY:Sunday Worship
DESCRIPTION:Common Grounds Worship  9:00 A.M. \nSunday School.    10:00 A.M. \nTraditional Worship.  11:00 A.M.
URL:https://iukamethodist.com/event/sunday-worship-3/2030-12-08/
LOCATION:Iuka Methodist Church\, 101 East Eastport St.\, Iuka\, MS\, 38852\, United States
ATTACH;FMTTYPE=image/jpeg:https://iukamethodist.com/wp-content/uploads/2026/03/bible.jpeg
END:VEVENT
BEGIN:VEVENT
DTSTART;TZID=UTC:20301210T170000
DTEND;TZID=UTC:20301210T190000
DTSTAMP:20260424T142727
CREATED:20260306T203438Z
LAST-MODIFIED:20260311T155429Z
UID:10000737-1923152400-1923159600@iukamethodist.com
SUMMARY:Prayer Shawl Ministry
DESCRIPTION:Our mission is to create prayer shawls\, baby blankets\, hats\, scarves and throws for those in need of prayers and praises.\nAnyone is welcome to join. We provide instruction for those who want to learn how to crochet or knit.\nContact Iuka Methodist Church office for more information. \n1st and 3rd Tuesdays @ 10am \n2nd and 4th Tuesdays @ 5pm \nSuzanne Rutledge classroom
URL:https://iukamethodist.com/event/prayer-shawl-ministry-8/2030-12-10/
LOCATION:Iuka Methodist Church\, 101 East Eastport St.\, Iuka\, MS\, 38852\, United States
ATTACH;FMTTYPE=image/jpeg:https://iukamethodist.com/wp-content/uploads/2026/02/20250428_141238-scaled.jpg
END:VEVENT
END:VCALENDAR