BEGIN:VCALENDAR
VERSION:2.0
PRODID:-//Iuka Methodist Church - ECPv6.15.20//NONSGML v1.0//EN
CALSCALE:GREGORIAN
METHOD:PUBLISH
X-ORIGINAL-URL:https://iukamethodist.com
X-WR-CALDESC:Events for Iuka Methodist Church
REFRESH-INTERVAL;VALUE=DURATION:PT1H
X-Robots-Tag:noindex
X-PUBLISHED-TTL:PT1H
BEGIN:VTIMEZONE
TZID:UTC
BEGIN:STANDARD
TZOFFSETFROM:+0000
TZOFFSETTO:+0000
TZNAME:UTC
DTSTART:20290101T000000
END:STANDARD
END:VTIMEZONE
BEGIN:VEVENT
DTSTART;TZID=UTC:20301229T090000
DTEND;TZID=UTC:20301229T120000
DTSTAMP:20260424T145605
CREATED:20260306T202906Z
LAST-MODIFIED:20260312T161233Z
UID:10000555-1924765200-1924776000@iukamethodist.com
SUMMARY:Sunday Worship
DESCRIPTION:Common Grounds Worship  9:00 A.M. \nSunday School.    10:00 A.M. \nTraditional Worship.  11:00 A.M.
URL:https://iukamethodist.com/event/sunday-worship-3/2030-12-29/
LOCATION:Iuka Methodist Church\, 101 East Eastport St.\, Iuka\, MS\, 38852\, United States
ATTACH;FMTTYPE=image/jpeg:https://iukamethodist.com/wp-content/uploads/2026/03/bible.jpeg
END:VEVENT
BEGIN:VEVENT
DTSTART;TZID=UTC:20310101T173000
DTEND;TZID=UTC:20310101T190000
DTSTAMP:20260424T145605
CREATED:20260306T204636Z
LAST-MODIFIED:20260312T162043Z
UID:10000302-1925055000-1925060400@iukamethodist.com
SUMMARY:Wonderful Wednesday
DESCRIPTION:To reserve a meal\, please call the church office by 12:00 p.m. on Monday. If you need to cancel\, please do so before noon on Monday. \nThe cost for adults is $7.00 and $5.00 for children 10 and under. Come eat then stay for one of our studies or Choir practice. Please make a reservation for each meal so we can order enough food.
URL:https://iukamethodist.com/event/wonderful-wednesday-4/2031-01-01/
LOCATION:Iuka Methodist Church\, 101 East Eastport St.\, Iuka\, MS\, 38852\, United States
ATTACH;FMTTYPE=image/jpeg:https://iukamethodist.com/wp-content/uploads/2026/03/prayer20hands20sized.jpg
END:VEVENT
BEGIN:VEVENT
DTSTART;TZID=UTC:20310105T090000
DTEND;TZID=UTC:20310105T120000
DTSTAMP:20260424T145605
CREATED:20260306T202906Z
LAST-MODIFIED:20260312T161233Z
UID:10000556-1925370000-1925380800@iukamethodist.com
SUMMARY:Sunday Worship
DESCRIPTION:Common Grounds Worship  9:00 A.M. \nSunday School.    10:00 A.M. \nTraditional Worship.  11:00 A.M.
URL:https://iukamethodist.com/event/sunday-worship-3/2031-01-05/
LOCATION:Iuka Methodist Church\, 101 East Eastport St.\, Iuka\, MS\, 38852\, United States
ATTACH;FMTTYPE=image/jpeg:https://iukamethodist.com/wp-content/uploads/2026/03/bible.jpeg
END:VEVENT
BEGIN:VEVENT
DTSTART;TZID=UTC:20310106T180000
DTEND;TZID=UTC:20310106T200000
DTSTAMP:20260424T145605
CREATED:20260306T201135Z
LAST-MODIFIED:20260311T155742Z
UID:10000973-1925488800-1925496000@iukamethodist.com
SUMMARY:Tishomingo Jam
DESCRIPTION: 
URL:https://iukamethodist.com/event/tishomingo-jam-2/2031-01-06/
LOCATION:Iuka Methodist Church\, 101 East Eastport St.\, Iuka\, MS\, 38852\, United States
ATTACH;FMTTYPE=image/jpeg:https://iukamethodist.com/wp-content/uploads/2026/01/526548975_3553752741428594_4412842756949622737_n.jpg
END:VEVENT
BEGIN:VEVENT
DTSTART;TZID=UTC:20310107T100000
DTEND;TZID=UTC:20310107T120000
DTSTAMP:20260424T145605
CREATED:20260306T203321Z
LAST-MODIFIED:20260311T155514Z
UID:10000797-1925546400-1925553600@iukamethodist.com
SUMMARY:Prayer Shawl Ministry
DESCRIPTION:Our mission is to create prayer shawls\, baby blankets\, hats\, scarves and throws for those in need of prayers and praises.\nAnyone is welcome to join. We provide instruction for those who want to learn how to crochet or knit.\nContact Iuka Methodist Church office for more information. \n1st and 3rd Tuesdays @ 10am \n2nd and 4th Tuesdays @ 5pm \nSuzanne Rutledge classroom
URL:https://iukamethodist.com/event/prayer-shawl-ministry-7/2031-01-07/
LOCATION:Iuka Methodist Church\, 101 East Eastport St.\, Iuka\, MS\, 38852\, United States
ATTACH;FMTTYPE=image/jpeg:https://iukamethodist.com/wp-content/uploads/2026/02/20250428_141238-scaled.jpg
END:VEVENT
BEGIN:VEVENT
DTSTART;TZID=UTC:20310108T173000
DTEND;TZID=UTC:20310108T190000
DTSTAMP:20260424T145605
CREATED:20260306T204636Z
LAST-MODIFIED:20260312T162043Z
UID:10000303-1925659800-1925665200@iukamethodist.com
SUMMARY:Wonderful Wednesday
DESCRIPTION:To reserve a meal\, please call the church office by 12:00 p.m. on Monday. If you need to cancel\, please do so before noon on Monday. \nThe cost for adults is $7.00 and $5.00 for children 10 and under. Come eat then stay for one of our studies or Choir practice. Please make a reservation for each meal so we can order enough food.
URL:https://iukamethodist.com/event/wonderful-wednesday-4/2031-01-08/
LOCATION:Iuka Methodist Church\, 101 East Eastport St.\, Iuka\, MS\, 38852\, United States
ATTACH;FMTTYPE=image/jpeg:https://iukamethodist.com/wp-content/uploads/2026/03/prayer20hands20sized.jpg
END:VEVENT
BEGIN:VEVENT
DTSTART;TZID=UTC:20310112T090000
DTEND;TZID=UTC:20310112T120000
DTSTAMP:20260424T145605
CREATED:20260306T202906Z
LAST-MODIFIED:20260312T161233Z
UID:10000557-1925974800-1925985600@iukamethodist.com
SUMMARY:Sunday Worship
DESCRIPTION:Common Grounds Worship  9:00 A.M. \nSunday School.    10:00 A.M. \nTraditional Worship.  11:00 A.M.
URL:https://iukamethodist.com/event/sunday-worship-3/2031-01-12/
LOCATION:Iuka Methodist Church\, 101 East Eastport St.\, Iuka\, MS\, 38852\, United States
ATTACH;FMTTYPE=image/jpeg:https://iukamethodist.com/wp-content/uploads/2026/03/bible.jpeg
END:VEVENT
BEGIN:VEVENT
DTSTART;TZID=UTC:20310114T170000
DTEND;TZID=UTC:20310114T190000
DTSTAMP:20260424T145605
CREATED:20260306T203438Z
LAST-MODIFIED:20260311T155429Z
UID:10000738-1926176400-1926183600@iukamethodist.com
SUMMARY:Prayer Shawl Ministry
DESCRIPTION:Our mission is to create prayer shawls\, baby blankets\, hats\, scarves and throws for those in need of prayers and praises.\nAnyone is welcome to join. We provide instruction for those who want to learn how to crochet or knit.\nContact Iuka Methodist Church office for more information. \n1st and 3rd Tuesdays @ 10am \n2nd and 4th Tuesdays @ 5pm \nSuzanne Rutledge classroom
URL:https://iukamethodist.com/event/prayer-shawl-ministry-8/2031-01-14/
LOCATION:Iuka Methodist Church\, 101 East Eastport St.\, Iuka\, MS\, 38852\, United States
ATTACH;FMTTYPE=image/jpeg:https://iukamethodist.com/wp-content/uploads/2026/02/20250428_141238-scaled.jpg
END:VEVENT
BEGIN:VEVENT
DTSTART;TZID=UTC:20310114T180000
DTEND;TZID=UTC:20310114T200000
DTSTAMP:20260424T145605
CREATED:20260306T201952Z
LAST-MODIFIED:20260311T155604Z
UID:10000856-1926180000-1926187200@iukamethodist.com
SUMMARY:Northeast Mississippi Songwriters
DESCRIPTION:
URL:https://iukamethodist.com/event/northeast-mississippi-songwriters-2/2031-01-14/
LOCATION:Iuka Methodist Church\, 101 East Eastport St.\, Iuka\, MS\, 38852\, United States
END:VEVENT
BEGIN:VEVENT
DTSTART;TZID=UTC:20310115T173000
DTEND;TZID=UTC:20310115T190000
DTSTAMP:20260424T145605
CREATED:20260306T204636Z
LAST-MODIFIED:20260312T162043Z
UID:10000304-1926264600-1926270000@iukamethodist.com
SUMMARY:Wonderful Wednesday
DESCRIPTION:To reserve a meal\, please call the church office by 12:00 p.m. on Monday. If you need to cancel\, please do so before noon on Monday. \nThe cost for adults is $7.00 and $5.00 for children 10 and under. Come eat then stay for one of our studies or Choir practice. Please make a reservation for each meal so we can order enough food.
URL:https://iukamethodist.com/event/wonderful-wednesday-4/2031-01-15/
LOCATION:Iuka Methodist Church\, 101 East Eastport St.\, Iuka\, MS\, 38852\, United States
ATTACH;FMTTYPE=image/jpeg:https://iukamethodist.com/wp-content/uploads/2026/03/prayer20hands20sized.jpg
END:VEVENT
BEGIN:VEVENT
DTSTART;TZID=UTC:20310119T090000
DTEND;TZID=UTC:20310119T120000
DTSTAMP:20260424T145605
CREATED:20260306T202906Z
LAST-MODIFIED:20260312T161233Z
UID:10000558-1926579600-1926590400@iukamethodist.com
SUMMARY:Sunday Worship
DESCRIPTION:Common Grounds Worship  9:00 A.M. \nSunday School.    10:00 A.M. \nTraditional Worship.  11:00 A.M.
URL:https://iukamethodist.com/event/sunday-worship-3/2031-01-19/
LOCATION:Iuka Methodist Church\, 101 East Eastport St.\, Iuka\, MS\, 38852\, United States
ATTACH;FMTTYPE=image/jpeg:https://iukamethodist.com/wp-content/uploads/2026/03/bible.jpeg
END:VEVENT
BEGIN:VEVENT
DTSTART;TZID=UTC:20310120T180000
DTEND;TZID=UTC:20310120T200000
DTSTAMP:20260424T145605
CREATED:20260306T202503Z
LAST-MODIFIED:20260311T155704Z
UID:10000915-1926698400-1926705600@iukamethodist.com
SUMMARY:Tishomingo Jam
DESCRIPTION: 
URL:https://iukamethodist.com/event/tishomingo-jam-4/2031-01-20/
LOCATION:Iuka Methodist Church\, 101 East Eastport St.\, Iuka\, MS\, 38852\, United States
ATTACH;FMTTYPE=image/jpeg:https://iukamethodist.com/wp-content/uploads/2026/01/526548975_3553752741428594_4412842756949622737_n.jpg
END:VEVENT
BEGIN:VEVENT
DTSTART;TZID=UTC:20310121T100000
DTEND;TZID=UTC:20310121T120000
DTSTAMP:20260424T145605
CREATED:20260306T203645Z
LAST-MODIFIED:20260311T160707Z
UID:10001033-1926756000-1926763200@iukamethodist.com
SUMMARY:Prayer Shawl Ministry
DESCRIPTION:Our mission is to create prayer shawls\, baby blankets\, hats\, scarves and throws for those in need of prayers and praises.\nAnyone is welcome to join. We provide instruction for those who want to learn how to crochet or knit.\nContact Iuka Methodist Church office for more information. \n1st and 3rd Tuesdays @ 10am \n2nd and 4th Tuesdays @ 5pm \nSuzanne Rutledge classroom
URL:https://iukamethodist.com/event/prayer-shawl-ministry-9/2031-01-21/
LOCATION:Iuka Methodist Church\, 101 East Eastport St.\, Iuka\, MS\, 38852\, United States
ATTACH;FMTTYPE=image/jpeg:https://iukamethodist.com/wp-content/uploads/2026/02/20250428_141238-scaled.jpg
END:VEVENT
BEGIN:VEVENT
DTSTART;TZID=UTC:20310122T173000
DTEND;TZID=UTC:20310122T190000
DTSTAMP:20260424T145605
CREATED:20260306T204636Z
LAST-MODIFIED:20260312T162043Z
UID:10000305-1926869400-1926874800@iukamethodist.com
SUMMARY:Wonderful Wednesday
DESCRIPTION:To reserve a meal\, please call the church office by 12:00 p.m. on Monday. If you need to cancel\, please do so before noon on Monday. \nThe cost for adults is $7.00 and $5.00 for children 10 and under. Come eat then stay for one of our studies or Choir practice. Please make a reservation for each meal so we can order enough food.
URL:https://iukamethodist.com/event/wonderful-wednesday-4/2031-01-22/
LOCATION:Iuka Methodist Church\, 101 East Eastport St.\, Iuka\, MS\, 38852\, United States
ATTACH;FMTTYPE=image/jpeg:https://iukamethodist.com/wp-content/uploads/2026/03/prayer20hands20sized.jpg
END:VEVENT
BEGIN:VEVENT
DTSTART;TZID=UTC:20310126T090000
DTEND;TZID=UTC:20310126T120000
DTSTAMP:20260424T145605
CREATED:20260306T202906Z
LAST-MODIFIED:20260312T161233Z
UID:10000559-1927184400-1927195200@iukamethodist.com
SUMMARY:Sunday Worship
DESCRIPTION:Common Grounds Worship  9:00 A.M. \nSunday School.    10:00 A.M. \nTraditional Worship.  11:00 A.M.
URL:https://iukamethodist.com/event/sunday-worship-3/2031-01-26/
LOCATION:Iuka Methodist Church\, 101 East Eastport St.\, Iuka\, MS\, 38852\, United States
ATTACH;FMTTYPE=image/jpeg:https://iukamethodist.com/wp-content/uploads/2026/03/bible.jpeg
END:VEVENT
BEGIN:VEVENT
DTSTART;TZID=UTC:20310128T170000
DTEND;TZID=UTC:20310128T183000
DTSTAMP:20260424T145605
CREATED:20260306T203836Z
LAST-MODIFIED:20260311T160951Z
UID:10001091-1927386000-1927391400@iukamethodist.com
SUMMARY:Prayer Shawl Ministry
DESCRIPTION:Our mission is to create prayer shawls\, baby blankets\, hats\, scarves and throws for those in need of prayers and praises.\nAnyone is welcome to join. We provide instruction for those who want to learn how to crochet or knit.\nContact Iuka Methodist Church office for more information. \n1st and 3rd Tuesdays @ 10am \n2nd and 4th Tuesdays @ 5pm \nSuzanne Rutledge classroom
URL:https://iukamethodist.com/event/prayer-shawl-ministry-10/2031-01-28/
LOCATION:Iuka Methodist Church\, 101 East Eastport St.\, Iuka\, MS\, 38852\, United States
ATTACH;FMTTYPE=image/jpeg:https://iukamethodist.com/wp-content/uploads/2026/02/20250428_141238-scaled.jpg
END:VEVENT
BEGIN:VEVENT
DTSTART;TZID=UTC:20310129T173000
DTEND;TZID=UTC:20310129T190000
DTSTAMP:20260424T145605
CREATED:20260306T204636Z
LAST-MODIFIED:20260312T162043Z
UID:10000306-1927474200-1927479600@iukamethodist.com
SUMMARY:Wonderful Wednesday
DESCRIPTION:To reserve a meal\, please call the church office by 12:00 p.m. on Monday. If you need to cancel\, please do so before noon on Monday. \nThe cost for adults is $7.00 and $5.00 for children 10 and under. Come eat then stay for one of our studies or Choir practice. Please make a reservation for each meal so we can order enough food.
URL:https://iukamethodist.com/event/wonderful-wednesday-4/2031-01-29/
LOCATION:Iuka Methodist Church\, 101 East Eastport St.\, Iuka\, MS\, 38852\, United States
ATTACH;FMTTYPE=image/jpeg:https://iukamethodist.com/wp-content/uploads/2026/03/prayer20hands20sized.jpg
END:VEVENT
BEGIN:VEVENT
DTSTART;TZID=UTC:20310202T090000
DTEND;TZID=UTC:20310202T120000
DTSTAMP:20260424T145605
CREATED:20260306T202906Z
LAST-MODIFIED:20260312T161233Z
UID:10000560-1927789200-1927800000@iukamethodist.com
SUMMARY:Sunday Worship
DESCRIPTION:Common Grounds Worship  9:00 A.M. \nSunday School.    10:00 A.M. \nTraditional Worship.  11:00 A.M.
URL:https://iukamethodist.com/event/sunday-worship-3/2031-02-02/
LOCATION:Iuka Methodist Church\, 101 East Eastport St.\, Iuka\, MS\, 38852\, United States
ATTACH;FMTTYPE=image/jpeg:https://iukamethodist.com/wp-content/uploads/2026/03/bible.jpeg
END:VEVENT
BEGIN:VEVENT
DTSTART;TZID=UTC:20310203T180000
DTEND;TZID=UTC:20310203T200000
DTSTAMP:20260424T145605
CREATED:20260306T201135Z
LAST-MODIFIED:20260311T155742Z
UID:10000974-1927908000-1927915200@iukamethodist.com
SUMMARY:Tishomingo Jam
DESCRIPTION: 
URL:https://iukamethodist.com/event/tishomingo-jam-2/2031-02-03/
LOCATION:Iuka Methodist Church\, 101 East Eastport St.\, Iuka\, MS\, 38852\, United States
ATTACH;FMTTYPE=image/jpeg:https://iukamethodist.com/wp-content/uploads/2026/01/526548975_3553752741428594_4412842756949622737_n.jpg
END:VEVENT
BEGIN:VEVENT
DTSTART;TZID=UTC:20310204T100000
DTEND;TZID=UTC:20310204T120000
DTSTAMP:20260424T145605
CREATED:20260306T203321Z
LAST-MODIFIED:20260311T155514Z
UID:10000798-1927965600-1927972800@iukamethodist.com
SUMMARY:Prayer Shawl Ministry
DESCRIPTION:Our mission is to create prayer shawls\, baby blankets\, hats\, scarves and throws for those in need of prayers and praises.\nAnyone is welcome to join. We provide instruction for those who want to learn how to crochet or knit.\nContact Iuka Methodist Church office for more information. \n1st and 3rd Tuesdays @ 10am \n2nd and 4th Tuesdays @ 5pm \nSuzanne Rutledge classroom
URL:https://iukamethodist.com/event/prayer-shawl-ministry-7/2031-02-04/
LOCATION:Iuka Methodist Church\, 101 East Eastport St.\, Iuka\, MS\, 38852\, United States
ATTACH;FMTTYPE=image/jpeg:https://iukamethodist.com/wp-content/uploads/2026/02/20250428_141238-scaled.jpg
END:VEVENT
BEGIN:VEVENT
DTSTART;TZID=UTC:20310205T173000
DTEND;TZID=UTC:20310205T190000
DTSTAMP:20260424T145605
CREATED:20260306T204636Z
LAST-MODIFIED:20260312T162043Z
UID:10000307-1928079000-1928084400@iukamethodist.com
SUMMARY:Wonderful Wednesday
DESCRIPTION:To reserve a meal\, please call the church office by 12:00 p.m. on Monday. If you need to cancel\, please do so before noon on Monday. \nThe cost for adults is $7.00 and $5.00 for children 10 and under. Come eat then stay for one of our studies or Choir practice. Please make a reservation for each meal so we can order enough food.
URL:https://iukamethodist.com/event/wonderful-wednesday-4/2031-02-05/
LOCATION:Iuka Methodist Church\, 101 East Eastport St.\, Iuka\, MS\, 38852\, United States
ATTACH;FMTTYPE=image/jpeg:https://iukamethodist.com/wp-content/uploads/2026/03/prayer20hands20sized.jpg
END:VEVENT
BEGIN:VEVENT
DTSTART;TZID=UTC:20310209T090000
DTEND;TZID=UTC:20310209T120000
DTSTAMP:20260424T145605
CREATED:20260306T202906Z
LAST-MODIFIED:20260312T161233Z
UID:10000561-1928394000-1928404800@iukamethodist.com
SUMMARY:Sunday Worship
DESCRIPTION:Common Grounds Worship  9:00 A.M. \nSunday School.    10:00 A.M. \nTraditional Worship.  11:00 A.M.
URL:https://iukamethodist.com/event/sunday-worship-3/2031-02-09/
LOCATION:Iuka Methodist Church\, 101 East Eastport St.\, Iuka\, MS\, 38852\, United States
ATTACH;FMTTYPE=image/jpeg:https://iukamethodist.com/wp-content/uploads/2026/03/bible.jpeg
END:VEVENT
BEGIN:VEVENT
DTSTART;TZID=UTC:20310211T170000
DTEND;TZID=UTC:20310211T190000
DTSTAMP:20260424T145605
CREATED:20260306T203438Z
LAST-MODIFIED:20260311T155429Z
UID:10000739-1928595600-1928602800@iukamethodist.com
SUMMARY:Prayer Shawl Ministry
DESCRIPTION:Our mission is to create prayer shawls\, baby blankets\, hats\, scarves and throws for those in need of prayers and praises.\nAnyone is welcome to join. We provide instruction for those who want to learn how to crochet or knit.\nContact Iuka Methodist Church office for more information. \n1st and 3rd Tuesdays @ 10am \n2nd and 4th Tuesdays @ 5pm \nSuzanne Rutledge classroom
URL:https://iukamethodist.com/event/prayer-shawl-ministry-8/2031-02-11/
LOCATION:Iuka Methodist Church\, 101 East Eastport St.\, Iuka\, MS\, 38852\, United States
ATTACH;FMTTYPE=image/jpeg:https://iukamethodist.com/wp-content/uploads/2026/02/20250428_141238-scaled.jpg
END:VEVENT
BEGIN:VEVENT
DTSTART;TZID=UTC:20310211T180000
DTEND;TZID=UTC:20310211T200000
DTSTAMP:20260424T145605
CREATED:20260306T201952Z
LAST-MODIFIED:20260311T155604Z
UID:10000857-1928599200-1928606400@iukamethodist.com
SUMMARY:Northeast Mississippi Songwriters
DESCRIPTION:
URL:https://iukamethodist.com/event/northeast-mississippi-songwriters-2/2031-02-11/
LOCATION:Iuka Methodist Church\, 101 East Eastport St.\, Iuka\, MS\, 38852\, United States
END:VEVENT
BEGIN:VEVENT
DTSTART;TZID=UTC:20310212T173000
DTEND;TZID=UTC:20310212T190000
DTSTAMP:20260424T145605
CREATED:20260306T204636Z
LAST-MODIFIED:20260312T162043Z
UID:10000308-1928683800-1928689200@iukamethodist.com
SUMMARY:Wonderful Wednesday
DESCRIPTION:To reserve a meal\, please call the church office by 12:00 p.m. on Monday. If you need to cancel\, please do so before noon on Monday. \nThe cost for adults is $7.00 and $5.00 for children 10 and under. Come eat then stay for one of our studies or Choir practice. Please make a reservation for each meal so we can order enough food.
URL:https://iukamethodist.com/event/wonderful-wednesday-4/2031-02-12/
LOCATION:Iuka Methodist Church\, 101 East Eastport St.\, Iuka\, MS\, 38852\, United States
ATTACH;FMTTYPE=image/jpeg:https://iukamethodist.com/wp-content/uploads/2026/03/prayer20hands20sized.jpg
END:VEVENT
BEGIN:VEVENT
DTSTART;TZID=UTC:20310216T090000
DTEND;TZID=UTC:20310216T120000
DTSTAMP:20260424T145605
CREATED:20260306T202906Z
LAST-MODIFIED:20260312T161233Z
UID:10000562-1928998800-1929009600@iukamethodist.com
SUMMARY:Sunday Worship
DESCRIPTION:Common Grounds Worship  9:00 A.M. \nSunday School.    10:00 A.M. \nTraditional Worship.  11:00 A.M.
URL:https://iukamethodist.com/event/sunday-worship-3/2031-02-16/
LOCATION:Iuka Methodist Church\, 101 East Eastport St.\, Iuka\, MS\, 38852\, United States
ATTACH;FMTTYPE=image/jpeg:https://iukamethodist.com/wp-content/uploads/2026/03/bible.jpeg
END:VEVENT
BEGIN:VEVENT
DTSTART;TZID=UTC:20310217T180000
DTEND;TZID=UTC:20310217T200000
DTSTAMP:20260424T145605
CREATED:20260306T202503Z
LAST-MODIFIED:20260311T155704Z
UID:10000916-1929117600-1929124800@iukamethodist.com
SUMMARY:Tishomingo Jam
DESCRIPTION: 
URL:https://iukamethodist.com/event/tishomingo-jam-4/2031-02-17/
LOCATION:Iuka Methodist Church\, 101 East Eastport St.\, Iuka\, MS\, 38852\, United States
ATTACH;FMTTYPE=image/jpeg:https://iukamethodist.com/wp-content/uploads/2026/01/526548975_3553752741428594_4412842756949622737_n.jpg
END:VEVENT
BEGIN:VEVENT
DTSTART;TZID=UTC:20310218T100000
DTEND;TZID=UTC:20310218T120000
DTSTAMP:20260424T145605
CREATED:20260306T203645Z
LAST-MODIFIED:20260311T160707Z
UID:10001034-1929175200-1929182400@iukamethodist.com
SUMMARY:Prayer Shawl Ministry
DESCRIPTION:Our mission is to create prayer shawls\, baby blankets\, hats\, scarves and throws for those in need of prayers and praises.\nAnyone is welcome to join. We provide instruction for those who want to learn how to crochet or knit.\nContact Iuka Methodist Church office for more information. \n1st and 3rd Tuesdays @ 10am \n2nd and 4th Tuesdays @ 5pm \nSuzanne Rutledge classroom
URL:https://iukamethodist.com/event/prayer-shawl-ministry-9/2031-02-18/
LOCATION:Iuka Methodist Church\, 101 East Eastport St.\, Iuka\, MS\, 38852\, United States
ATTACH;FMTTYPE=image/jpeg:https://iukamethodist.com/wp-content/uploads/2026/02/20250428_141238-scaled.jpg
END:VEVENT
BEGIN:VEVENT
DTSTART;TZID=UTC:20310219T173000
DTEND;TZID=UTC:20310219T190000
DTSTAMP:20260424T145605
CREATED:20260306T204636Z
LAST-MODIFIED:20260312T162043Z
UID:10000309-1929288600-1929294000@iukamethodist.com
SUMMARY:Wonderful Wednesday
DESCRIPTION:To reserve a meal\, please call the church office by 12:00 p.m. on Monday. If you need to cancel\, please do so before noon on Monday. \nThe cost for adults is $7.00 and $5.00 for children 10 and under. Come eat then stay for one of our studies or Choir practice. Please make a reservation for each meal so we can order enough food.
URL:https://iukamethodist.com/event/wonderful-wednesday-4/2031-02-19/
LOCATION:Iuka Methodist Church\, 101 East Eastport St.\, Iuka\, MS\, 38852\, United States
ATTACH;FMTTYPE=image/jpeg:https://iukamethodist.com/wp-content/uploads/2026/03/prayer20hands20sized.jpg
END:VEVENT
BEGIN:VEVENT
DTSTART;TZID=UTC:20310223T090000
DTEND;TZID=UTC:20310223T120000
DTSTAMP:20260424T145605
CREATED:20260306T202906Z
LAST-MODIFIED:20260312T161233Z
UID:10000563-1929603600-1929614400@iukamethodist.com
SUMMARY:Sunday Worship
DESCRIPTION:Common Grounds Worship  9:00 A.M. \nSunday School.    10:00 A.M. \nTraditional Worship.  11:00 A.M.
URL:https://iukamethodist.com/event/sunday-worship-3/2031-02-23/
LOCATION:Iuka Methodist Church\, 101 East Eastport St.\, Iuka\, MS\, 38852\, United States
ATTACH;FMTTYPE=image/jpeg:https://iukamethodist.com/wp-content/uploads/2026/03/bible.jpeg
END:VEVENT
END:VCALENDAR