BEGIN:VCALENDAR
VERSION:2.0
PRODID:-//Iuka Methodist Church - ECPv6.15.20//NONSGML v1.0//EN
CALSCALE:GREGORIAN
METHOD:PUBLISH
X-ORIGINAL-URL:https://iukamethodist.com
X-WR-CALDESC:Events for Iuka Methodist Church
REFRESH-INTERVAL;VALUE=DURATION:PT1H
X-Robots-Tag:noindex
X-PUBLISHED-TTL:PT1H
BEGIN:VTIMEZONE
TZID:UTC
BEGIN:STANDARD
TZOFFSETFROM:+0000
TZOFFSETTO:+0000
TZNAME:UTC
DTSTART:20290101T000000
END:STANDARD
END:VTIMEZONE
BEGIN:VEVENT
DTSTART;TZID=UTC:20300224T090000
DTEND;TZID=UTC:20300224T120000
DTSTAMP:20260423T231735
CREATED:20260306T202906Z
LAST-MODIFIED:20260312T161233Z
UID:10000511-1898154000-1898164800@iukamethodist.com
SUMMARY:Sunday Worship
DESCRIPTION:Common Grounds Worship  9:00 A.M. \nSunday School.    10:00 A.M. \nTraditional Worship.  11:00 A.M.
URL:https://iukamethodist.com/event/sunday-worship-3/2030-02-24/
LOCATION:Iuka Methodist Church\, 101 East Eastport St.\, Iuka\, MS\, 38852\, United States
ATTACH;FMTTYPE=image/jpeg:https://iukamethodist.com/wp-content/uploads/2026/03/bible.jpeg
END:VEVENT
BEGIN:VEVENT
DTSTART;TZID=UTC:20300226T170000
DTEND;TZID=UTC:20300226T183000
DTSTAMP:20260423T231735
CREATED:20260306T203836Z
LAST-MODIFIED:20260311T160951Z
UID:10001080-1898355600-1898361000@iukamethodist.com
SUMMARY:Prayer Shawl Ministry
DESCRIPTION:Our mission is to create prayer shawls\, baby blankets\, hats\, scarves and throws for those in need of prayers and praises.\nAnyone is welcome to join. We provide instruction for those who want to learn how to crochet or knit.\nContact Iuka Methodist Church office for more information. \n1st and 3rd Tuesdays @ 10am \n2nd and 4th Tuesdays @ 5pm \nSuzanne Rutledge classroom
URL:https://iukamethodist.com/event/prayer-shawl-ministry-10/2030-02-26/
LOCATION:Iuka Methodist Church\, 101 East Eastport St.\, Iuka\, MS\, 38852\, United States
ATTACH;FMTTYPE=image/jpeg:https://iukamethodist.com/wp-content/uploads/2026/02/20250428_141238-scaled.jpg
END:VEVENT
BEGIN:VEVENT
DTSTART;TZID=UTC:20300227T173000
DTEND;TZID=UTC:20300227T190000
DTSTAMP:20260423T231735
CREATED:20260306T204636Z
LAST-MODIFIED:20260312T162043Z
UID:10000258-1898443800-1898449200@iukamethodist.com
SUMMARY:Wonderful Wednesday
DESCRIPTION:To reserve a meal\, please call the church office by 12:00 p.m. on Monday. If you need to cancel\, please do so before noon on Monday. \nThe cost for adults is $7.00 and $5.00 for children 10 and under. Come eat then stay for one of our studies or Choir practice. Please make a reservation for each meal so we can order enough food.
URL:https://iukamethodist.com/event/wonderful-wednesday-4/2030-02-27/
LOCATION:Iuka Methodist Church\, 101 East Eastport St.\, Iuka\, MS\, 38852\, United States
ATTACH;FMTTYPE=image/jpeg:https://iukamethodist.com/wp-content/uploads/2026/03/prayer20hands20sized.jpg
END:VEVENT
BEGIN:VEVENT
DTSTART;TZID=UTC:20300303T090000
DTEND;TZID=UTC:20300303T120000
DTSTAMP:20260423T231735
CREATED:20260306T202906Z
LAST-MODIFIED:20260312T161233Z
UID:10000512-1898758800-1898769600@iukamethodist.com
SUMMARY:Sunday Worship
DESCRIPTION:Common Grounds Worship  9:00 A.M. \nSunday School.    10:00 A.M. \nTraditional Worship.  11:00 A.M.
URL:https://iukamethodist.com/event/sunday-worship-3/2030-03-03/
LOCATION:Iuka Methodist Church\, 101 East Eastport St.\, Iuka\, MS\, 38852\, United States
ATTACH;FMTTYPE=image/jpeg:https://iukamethodist.com/wp-content/uploads/2026/03/bible.jpeg
END:VEVENT
BEGIN:VEVENT
DTSTART;TZID=UTC:20300304T180000
DTEND;TZID=UTC:20300304T200000
DTSTAMP:20260423T231735
CREATED:20260306T201135Z
LAST-MODIFIED:20260311T155742Z
UID:10000963-1898877600-1898884800@iukamethodist.com
SUMMARY:Tishomingo Jam
DESCRIPTION: 
URL:https://iukamethodist.com/event/tishomingo-jam-2/2030-03-04/
LOCATION:Iuka Methodist Church\, 101 East Eastport St.\, Iuka\, MS\, 38852\, United States
ATTACH;FMTTYPE=image/jpeg:https://iukamethodist.com/wp-content/uploads/2026/01/526548975_3553752741428594_4412842756949622737_n.jpg
END:VEVENT
BEGIN:VEVENT
DTSTART;TZID=UTC:20300305T100000
DTEND;TZID=UTC:20300305T120000
DTSTAMP:20260423T231735
CREATED:20260306T203321Z
LAST-MODIFIED:20260311T155514Z
UID:10000787-1898935200-1898942400@iukamethodist.com
SUMMARY:Prayer Shawl Ministry
DESCRIPTION:Our mission is to create prayer shawls\, baby blankets\, hats\, scarves and throws for those in need of prayers and praises.\nAnyone is welcome to join. We provide instruction for those who want to learn how to crochet or knit.\nContact Iuka Methodist Church office for more information. \n1st and 3rd Tuesdays @ 10am \n2nd and 4th Tuesdays @ 5pm \nSuzanne Rutledge classroom
URL:https://iukamethodist.com/event/prayer-shawl-ministry-7/2030-03-05/
LOCATION:Iuka Methodist Church\, 101 East Eastport St.\, Iuka\, MS\, 38852\, United States
ATTACH;FMTTYPE=image/jpeg:https://iukamethodist.com/wp-content/uploads/2026/02/20250428_141238-scaled.jpg
END:VEVENT
BEGIN:VEVENT
DTSTART;TZID=UTC:20300306T173000
DTEND;TZID=UTC:20300306T190000
DTSTAMP:20260423T231735
CREATED:20260306T204636Z
LAST-MODIFIED:20260312T162043Z
UID:10000259-1899048600-1899054000@iukamethodist.com
SUMMARY:Wonderful Wednesday
DESCRIPTION:To reserve a meal\, please call the church office by 12:00 p.m. on Monday. If you need to cancel\, please do so before noon on Monday. \nThe cost for adults is $7.00 and $5.00 for children 10 and under. Come eat then stay for one of our studies or Choir practice. Please make a reservation for each meal so we can order enough food.
URL:https://iukamethodist.com/event/wonderful-wednesday-4/2030-03-06/
LOCATION:Iuka Methodist Church\, 101 East Eastport St.\, Iuka\, MS\, 38852\, United States
ATTACH;FMTTYPE=image/jpeg:https://iukamethodist.com/wp-content/uploads/2026/03/prayer20hands20sized.jpg
END:VEVENT
BEGIN:VEVENT
DTSTART;TZID=UTC:20300310T090000
DTEND;TZID=UTC:20300310T120000
DTSTAMP:20260423T231735
CREATED:20260306T202906Z
LAST-MODIFIED:20260312T161233Z
UID:10000513-1899363600-1899374400@iukamethodist.com
SUMMARY:Sunday Worship
DESCRIPTION:Common Grounds Worship  9:00 A.M. \nSunday School.    10:00 A.M. \nTraditional Worship.  11:00 A.M.
URL:https://iukamethodist.com/event/sunday-worship-3/2030-03-10/
LOCATION:Iuka Methodist Church\, 101 East Eastport St.\, Iuka\, MS\, 38852\, United States
ATTACH;FMTTYPE=image/jpeg:https://iukamethodist.com/wp-content/uploads/2026/03/bible.jpeg
END:VEVENT
BEGIN:VEVENT
DTSTART;TZID=UTC:20300312T170000
DTEND;TZID=UTC:20300312T190000
DTSTAMP:20260423T231735
CREATED:20260306T203438Z
LAST-MODIFIED:20260311T155429Z
UID:10000728-1899565200-1899572400@iukamethodist.com
SUMMARY:Prayer Shawl Ministry
DESCRIPTION:Our mission is to create prayer shawls\, baby blankets\, hats\, scarves and throws for those in need of prayers and praises.\nAnyone is welcome to join. We provide instruction for those who want to learn how to crochet or knit.\nContact Iuka Methodist Church office for more information. \n1st and 3rd Tuesdays @ 10am \n2nd and 4th Tuesdays @ 5pm \nSuzanne Rutledge classroom
URL:https://iukamethodist.com/event/prayer-shawl-ministry-8/2030-03-12/
LOCATION:Iuka Methodist Church\, 101 East Eastport St.\, Iuka\, MS\, 38852\, United States
ATTACH;FMTTYPE=image/jpeg:https://iukamethodist.com/wp-content/uploads/2026/02/20250428_141238-scaled.jpg
END:VEVENT
BEGIN:VEVENT
DTSTART;TZID=UTC:20300312T180000
DTEND;TZID=UTC:20300312T200000
DTSTAMP:20260423T231735
CREATED:20260306T201952Z
LAST-MODIFIED:20260311T155604Z
UID:10000846-1899568800-1899576000@iukamethodist.com
SUMMARY:Northeast Mississippi Songwriters
DESCRIPTION:
URL:https://iukamethodist.com/event/northeast-mississippi-songwriters-2/2030-03-12/
LOCATION:Iuka Methodist Church\, 101 East Eastport St.\, Iuka\, MS\, 38852\, United States
END:VEVENT
BEGIN:VEVENT
DTSTART;TZID=UTC:20300313T173000
DTEND;TZID=UTC:20300313T190000
DTSTAMP:20260423T231735
CREATED:20260306T204636Z
LAST-MODIFIED:20260312T162043Z
UID:10000260-1899653400-1899658800@iukamethodist.com
SUMMARY:Wonderful Wednesday
DESCRIPTION:To reserve a meal\, please call the church office by 12:00 p.m. on Monday. If you need to cancel\, please do so before noon on Monday. \nThe cost for adults is $7.00 and $5.00 for children 10 and under. Come eat then stay for one of our studies or Choir practice. Please make a reservation for each meal so we can order enough food.
URL:https://iukamethodist.com/event/wonderful-wednesday-4/2030-03-13/
LOCATION:Iuka Methodist Church\, 101 East Eastport St.\, Iuka\, MS\, 38852\, United States
ATTACH;FMTTYPE=image/jpeg:https://iukamethodist.com/wp-content/uploads/2026/03/prayer20hands20sized.jpg
END:VEVENT
BEGIN:VEVENT
DTSTART;TZID=UTC:20300317T090000
DTEND;TZID=UTC:20300317T120000
DTSTAMP:20260423T231735
CREATED:20260306T202906Z
LAST-MODIFIED:20260312T161233Z
UID:10000514-1899968400-1899979200@iukamethodist.com
SUMMARY:Sunday Worship
DESCRIPTION:Common Grounds Worship  9:00 A.M. \nSunday School.    10:00 A.M. \nTraditional Worship.  11:00 A.M.
URL:https://iukamethodist.com/event/sunday-worship-3/2030-03-17/
LOCATION:Iuka Methodist Church\, 101 East Eastport St.\, Iuka\, MS\, 38852\, United States
ATTACH;FMTTYPE=image/jpeg:https://iukamethodist.com/wp-content/uploads/2026/03/bible.jpeg
END:VEVENT
BEGIN:VEVENT
DTSTART;TZID=UTC:20300318T180000
DTEND;TZID=UTC:20300318T200000
DTSTAMP:20260423T231735
CREATED:20260306T202503Z
LAST-MODIFIED:20260311T155704Z
UID:10000905-1900087200-1900094400@iukamethodist.com
SUMMARY:Tishomingo Jam
DESCRIPTION: 
URL:https://iukamethodist.com/event/tishomingo-jam-4/2030-03-18/
LOCATION:Iuka Methodist Church\, 101 East Eastport St.\, Iuka\, MS\, 38852\, United States
ATTACH;FMTTYPE=image/jpeg:https://iukamethodist.com/wp-content/uploads/2026/01/526548975_3553752741428594_4412842756949622737_n.jpg
END:VEVENT
BEGIN:VEVENT
DTSTART;TZID=UTC:20300319T100000
DTEND;TZID=UTC:20300319T120000
DTSTAMP:20260423T231735
CREATED:20260306T203645Z
LAST-MODIFIED:20260311T160707Z
UID:10001023-1900144800-1900152000@iukamethodist.com
SUMMARY:Prayer Shawl Ministry
DESCRIPTION:Our mission is to create prayer shawls\, baby blankets\, hats\, scarves and throws for those in need of prayers and praises.\nAnyone is welcome to join. We provide instruction for those who want to learn how to crochet or knit.\nContact Iuka Methodist Church office for more information. \n1st and 3rd Tuesdays @ 10am \n2nd and 4th Tuesdays @ 5pm \nSuzanne Rutledge classroom
URL:https://iukamethodist.com/event/prayer-shawl-ministry-9/2030-03-19/
LOCATION:Iuka Methodist Church\, 101 East Eastport St.\, Iuka\, MS\, 38852\, United States
ATTACH;FMTTYPE=image/jpeg:https://iukamethodist.com/wp-content/uploads/2026/02/20250428_141238-scaled.jpg
END:VEVENT
BEGIN:VEVENT
DTSTART;TZID=UTC:20300320T173000
DTEND;TZID=UTC:20300320T190000
DTSTAMP:20260423T231735
CREATED:20260306T204636Z
LAST-MODIFIED:20260312T162043Z
UID:10000261-1900258200-1900263600@iukamethodist.com
SUMMARY:Wonderful Wednesday
DESCRIPTION:To reserve a meal\, please call the church office by 12:00 p.m. on Monday. If you need to cancel\, please do so before noon on Monday. \nThe cost for adults is $7.00 and $5.00 for children 10 and under. Come eat then stay for one of our studies or Choir practice. Please make a reservation for each meal so we can order enough food.
URL:https://iukamethodist.com/event/wonderful-wednesday-4/2030-03-20/
LOCATION:Iuka Methodist Church\, 101 East Eastport St.\, Iuka\, MS\, 38852\, United States
ATTACH;FMTTYPE=image/jpeg:https://iukamethodist.com/wp-content/uploads/2026/03/prayer20hands20sized.jpg
END:VEVENT
BEGIN:VEVENT
DTSTART;TZID=UTC:20300324T090000
DTEND;TZID=UTC:20300324T120000
DTSTAMP:20260423T231735
CREATED:20260306T202906Z
LAST-MODIFIED:20260312T161233Z
UID:10000515-1900573200-1900584000@iukamethodist.com
SUMMARY:Sunday Worship
DESCRIPTION:Common Grounds Worship  9:00 A.M. \nSunday School.    10:00 A.M. \nTraditional Worship.  11:00 A.M.
URL:https://iukamethodist.com/event/sunday-worship-3/2030-03-24/
LOCATION:Iuka Methodist Church\, 101 East Eastport St.\, Iuka\, MS\, 38852\, United States
ATTACH;FMTTYPE=image/jpeg:https://iukamethodist.com/wp-content/uploads/2026/03/bible.jpeg
END:VEVENT
BEGIN:VEVENT
DTSTART;TZID=UTC:20300326T170000
DTEND;TZID=UTC:20300326T183000
DTSTAMP:20260423T231735
CREATED:20260306T203836Z
LAST-MODIFIED:20260311T160951Z
UID:10001081-1900774800-1900780200@iukamethodist.com
SUMMARY:Prayer Shawl Ministry
DESCRIPTION:Our mission is to create prayer shawls\, baby blankets\, hats\, scarves and throws for those in need of prayers and praises.\nAnyone is welcome to join. We provide instruction for those who want to learn how to crochet or knit.\nContact Iuka Methodist Church office for more information. \n1st and 3rd Tuesdays @ 10am \n2nd and 4th Tuesdays @ 5pm \nSuzanne Rutledge classroom
URL:https://iukamethodist.com/event/prayer-shawl-ministry-10/2030-03-26/
LOCATION:Iuka Methodist Church\, 101 East Eastport St.\, Iuka\, MS\, 38852\, United States
ATTACH;FMTTYPE=image/jpeg:https://iukamethodist.com/wp-content/uploads/2026/02/20250428_141238-scaled.jpg
END:VEVENT
BEGIN:VEVENT
DTSTART;TZID=UTC:20300327T173000
DTEND;TZID=UTC:20300327T190000
DTSTAMP:20260423T231735
CREATED:20260306T204636Z
LAST-MODIFIED:20260312T162043Z
UID:10000262-1900863000-1900868400@iukamethodist.com
SUMMARY:Wonderful Wednesday
DESCRIPTION:To reserve a meal\, please call the church office by 12:00 p.m. on Monday. If you need to cancel\, please do so before noon on Monday. \nThe cost for adults is $7.00 and $5.00 for children 10 and under. Come eat then stay for one of our studies or Choir practice. Please make a reservation for each meal so we can order enough food.
URL:https://iukamethodist.com/event/wonderful-wednesday-4/2030-03-27/
LOCATION:Iuka Methodist Church\, 101 East Eastport St.\, Iuka\, MS\, 38852\, United States
ATTACH;FMTTYPE=image/jpeg:https://iukamethodist.com/wp-content/uploads/2026/03/prayer20hands20sized.jpg
END:VEVENT
BEGIN:VEVENT
DTSTART;TZID=UTC:20300331T090000
DTEND;TZID=UTC:20300331T120000
DTSTAMP:20260423T231735
CREATED:20260306T202906Z
LAST-MODIFIED:20260312T161233Z
UID:10000516-1901178000-1901188800@iukamethodist.com
SUMMARY:Sunday Worship
DESCRIPTION:Common Grounds Worship  9:00 A.M. \nSunday School.    10:00 A.M. \nTraditional Worship.  11:00 A.M.
URL:https://iukamethodist.com/event/sunday-worship-3/2030-03-31/
LOCATION:Iuka Methodist Church\, 101 East Eastport St.\, Iuka\, MS\, 38852\, United States
ATTACH;FMTTYPE=image/jpeg:https://iukamethodist.com/wp-content/uploads/2026/03/bible.jpeg
END:VEVENT
BEGIN:VEVENT
DTSTART;TZID=UTC:20300401T180000
DTEND;TZID=UTC:20300401T200000
DTSTAMP:20260423T231735
CREATED:20260306T201135Z
LAST-MODIFIED:20260311T155742Z
UID:10000964-1901296800-1901304000@iukamethodist.com
SUMMARY:Tishomingo Jam
DESCRIPTION: 
URL:https://iukamethodist.com/event/tishomingo-jam-2/2030-04-01/
LOCATION:Iuka Methodist Church\, 101 East Eastport St.\, Iuka\, MS\, 38852\, United States
ATTACH;FMTTYPE=image/jpeg:https://iukamethodist.com/wp-content/uploads/2026/01/526548975_3553752741428594_4412842756949622737_n.jpg
END:VEVENT
BEGIN:VEVENT
DTSTART;TZID=UTC:20300402T100000
DTEND;TZID=UTC:20300402T120000
DTSTAMP:20260423T231735
CREATED:20260306T203321Z
LAST-MODIFIED:20260311T155514Z
UID:10000788-1901354400-1901361600@iukamethodist.com
SUMMARY:Prayer Shawl Ministry
DESCRIPTION:Our mission is to create prayer shawls\, baby blankets\, hats\, scarves and throws for those in need of prayers and praises.\nAnyone is welcome to join. We provide instruction for those who want to learn how to crochet or knit.\nContact Iuka Methodist Church office for more information. \n1st and 3rd Tuesdays @ 10am \n2nd and 4th Tuesdays @ 5pm \nSuzanne Rutledge classroom
URL:https://iukamethodist.com/event/prayer-shawl-ministry-7/2030-04-02/
LOCATION:Iuka Methodist Church\, 101 East Eastport St.\, Iuka\, MS\, 38852\, United States
ATTACH;FMTTYPE=image/jpeg:https://iukamethodist.com/wp-content/uploads/2026/02/20250428_141238-scaled.jpg
END:VEVENT
BEGIN:VEVENT
DTSTART;TZID=UTC:20300403T173000
DTEND;TZID=UTC:20300403T190000
DTSTAMP:20260423T231735
CREATED:20260306T204636Z
LAST-MODIFIED:20260312T162043Z
UID:10000263-1901467800-1901473200@iukamethodist.com
SUMMARY:Wonderful Wednesday
DESCRIPTION:To reserve a meal\, please call the church office by 12:00 p.m. on Monday. If you need to cancel\, please do so before noon on Monday. \nThe cost for adults is $7.00 and $5.00 for children 10 and under. Come eat then stay for one of our studies or Choir practice. Please make a reservation for each meal so we can order enough food.
URL:https://iukamethodist.com/event/wonderful-wednesday-4/2030-04-03/
LOCATION:Iuka Methodist Church\, 101 East Eastport St.\, Iuka\, MS\, 38852\, United States
ATTACH;FMTTYPE=image/jpeg:https://iukamethodist.com/wp-content/uploads/2026/03/prayer20hands20sized.jpg
END:VEVENT
BEGIN:VEVENT
DTSTART;TZID=UTC:20300407T090000
DTEND;TZID=UTC:20300407T120000
DTSTAMP:20260423T231735
CREATED:20260306T202906Z
LAST-MODIFIED:20260312T161233Z
UID:10000517-1901782800-1901793600@iukamethodist.com
SUMMARY:Sunday Worship
DESCRIPTION:Common Grounds Worship  9:00 A.M. \nSunday School.    10:00 A.M. \nTraditional Worship.  11:00 A.M.
URL:https://iukamethodist.com/event/sunday-worship-3/2030-04-07/
LOCATION:Iuka Methodist Church\, 101 East Eastport St.\, Iuka\, MS\, 38852\, United States
ATTACH;FMTTYPE=image/jpeg:https://iukamethodist.com/wp-content/uploads/2026/03/bible.jpeg
END:VEVENT
BEGIN:VEVENT
DTSTART;TZID=UTC:20300409T170000
DTEND;TZID=UTC:20300409T190000
DTSTAMP:20260423T231735
CREATED:20260306T203438Z
LAST-MODIFIED:20260311T155429Z
UID:10000729-1901984400-1901991600@iukamethodist.com
SUMMARY:Prayer Shawl Ministry
DESCRIPTION:Our mission is to create prayer shawls\, baby blankets\, hats\, scarves and throws for those in need of prayers and praises.\nAnyone is welcome to join. We provide instruction for those who want to learn how to crochet or knit.\nContact Iuka Methodist Church office for more information. \n1st and 3rd Tuesdays @ 10am \n2nd and 4th Tuesdays @ 5pm \nSuzanne Rutledge classroom
URL:https://iukamethodist.com/event/prayer-shawl-ministry-8/2030-04-09/
LOCATION:Iuka Methodist Church\, 101 East Eastport St.\, Iuka\, MS\, 38852\, United States
ATTACH;FMTTYPE=image/jpeg:https://iukamethodist.com/wp-content/uploads/2026/02/20250428_141238-scaled.jpg
END:VEVENT
BEGIN:VEVENT
DTSTART;TZID=UTC:20300409T180000
DTEND;TZID=UTC:20300409T200000
DTSTAMP:20260423T231735
CREATED:20260306T201952Z
LAST-MODIFIED:20260311T155604Z
UID:10000847-1901988000-1901995200@iukamethodist.com
SUMMARY:Northeast Mississippi Songwriters
DESCRIPTION:
URL:https://iukamethodist.com/event/northeast-mississippi-songwriters-2/2030-04-09/
LOCATION:Iuka Methodist Church\, 101 East Eastport St.\, Iuka\, MS\, 38852\, United States
END:VEVENT
BEGIN:VEVENT
DTSTART;TZID=UTC:20300410T173000
DTEND;TZID=UTC:20300410T190000
DTSTAMP:20260423T231735
CREATED:20260306T204636Z
LAST-MODIFIED:20260312T162043Z
UID:10000264-1902072600-1902078000@iukamethodist.com
SUMMARY:Wonderful Wednesday
DESCRIPTION:To reserve a meal\, please call the church office by 12:00 p.m. on Monday. If you need to cancel\, please do so before noon on Monday. \nThe cost for adults is $7.00 and $5.00 for children 10 and under. Come eat then stay for one of our studies or Choir practice. Please make a reservation for each meal so we can order enough food.
URL:https://iukamethodist.com/event/wonderful-wednesday-4/2030-04-10/
LOCATION:Iuka Methodist Church\, 101 East Eastport St.\, Iuka\, MS\, 38852\, United States
ATTACH;FMTTYPE=image/jpeg:https://iukamethodist.com/wp-content/uploads/2026/03/prayer20hands20sized.jpg
END:VEVENT
BEGIN:VEVENT
DTSTART;TZID=UTC:20300414T090000
DTEND;TZID=UTC:20300414T120000
DTSTAMP:20260423T231735
CREATED:20260306T202906Z
LAST-MODIFIED:20260312T161233Z
UID:10000518-1902387600-1902398400@iukamethodist.com
SUMMARY:Sunday Worship
DESCRIPTION:Common Grounds Worship  9:00 A.M. \nSunday School.    10:00 A.M. \nTraditional Worship.  11:00 A.M.
URL:https://iukamethodist.com/event/sunday-worship-3/2030-04-14/
LOCATION:Iuka Methodist Church\, 101 East Eastport St.\, Iuka\, MS\, 38852\, United States
ATTACH;FMTTYPE=image/jpeg:https://iukamethodist.com/wp-content/uploads/2026/03/bible.jpeg
END:VEVENT
BEGIN:VEVENT
DTSTART;TZID=UTC:20300415T180000
DTEND;TZID=UTC:20300415T200000
DTSTAMP:20260423T231735
CREATED:20260306T202503Z
LAST-MODIFIED:20260311T155704Z
UID:10000906-1902506400-1902513600@iukamethodist.com
SUMMARY:Tishomingo Jam
DESCRIPTION: 
URL:https://iukamethodist.com/event/tishomingo-jam-4/2030-04-15/
LOCATION:Iuka Methodist Church\, 101 East Eastport St.\, Iuka\, MS\, 38852\, United States
ATTACH;FMTTYPE=image/jpeg:https://iukamethodist.com/wp-content/uploads/2026/01/526548975_3553752741428594_4412842756949622737_n.jpg
END:VEVENT
BEGIN:VEVENT
DTSTART;TZID=UTC:20300416T100000
DTEND;TZID=UTC:20300416T120000
DTSTAMP:20260423T231735
CREATED:20260306T203645Z
LAST-MODIFIED:20260311T160707Z
UID:10001024-1902564000-1902571200@iukamethodist.com
SUMMARY:Prayer Shawl Ministry
DESCRIPTION:Our mission is to create prayer shawls\, baby blankets\, hats\, scarves and throws for those in need of prayers and praises.\nAnyone is welcome to join. We provide instruction for those who want to learn how to crochet or knit.\nContact Iuka Methodist Church office for more information. \n1st and 3rd Tuesdays @ 10am \n2nd and 4th Tuesdays @ 5pm \nSuzanne Rutledge classroom
URL:https://iukamethodist.com/event/prayer-shawl-ministry-9/2030-04-16/
LOCATION:Iuka Methodist Church\, 101 East Eastport St.\, Iuka\, MS\, 38852\, United States
ATTACH;FMTTYPE=image/jpeg:https://iukamethodist.com/wp-content/uploads/2026/02/20250428_141238-scaled.jpg
END:VEVENT
BEGIN:VEVENT
DTSTART;TZID=UTC:20300417T173000
DTEND;TZID=UTC:20300417T190000
DTSTAMP:20260423T231735
CREATED:20260306T204636Z
LAST-MODIFIED:20260312T162043Z
UID:10000265-1902677400-1902682800@iukamethodist.com
SUMMARY:Wonderful Wednesday
DESCRIPTION:To reserve a meal\, please call the church office by 12:00 p.m. on Monday. If you need to cancel\, please do so before noon on Monday. \nThe cost for adults is $7.00 and $5.00 for children 10 and under. Come eat then stay for one of our studies or Choir practice. Please make a reservation for each meal so we can order enough food.
URL:https://iukamethodist.com/event/wonderful-wednesday-4/2030-04-17/
LOCATION:Iuka Methodist Church\, 101 East Eastport St.\, Iuka\, MS\, 38852\, United States
ATTACH;FMTTYPE=image/jpeg:https://iukamethodist.com/wp-content/uploads/2026/03/prayer20hands20sized.jpg
END:VEVENT
END:VCALENDAR