BEGIN:VCALENDAR
VERSION:2.0
PRODID:-//Iuka Methodist Church - ECPv6.15.20//NONSGML v1.0//EN
CALSCALE:GREGORIAN
METHOD:PUBLISH
X-ORIGINAL-URL:https://iukamethodist.com
X-WR-CALDESC:Events for Iuka Methodist Church
REFRESH-INTERVAL;VALUE=DURATION:PT1H
X-Robots-Tag:noindex
X-PUBLISHED-TTL:PT1H
BEGIN:VTIMEZONE
TZID:UTC
BEGIN:STANDARD
TZOFFSETFROM:+0000
TZOFFSETTO:+0000
TZNAME:UTC
DTSTART:20280101T000000
END:STANDARD
END:VTIMEZONE
BEGIN:VEVENT
DTSTART;TZID=UTC:20290627T173000
DTEND;TZID=UTC:20290627T190000
DTSTAMP:20260422T221113
CREATED:20260306T204636Z
LAST-MODIFIED:20260312T162043Z
UID:10000223-1877275800-1877281200@iukamethodist.com
SUMMARY:Wonderful Wednesday
DESCRIPTION:To reserve a meal\, please call the church office by 12:00 p.m. on Monday. If you need to cancel\, please do so before noon on Monday. \nThe cost for adults is $7.00 and $5.00 for children 10 and under. Come eat then stay for one of our studies or Choir practice. Please make a reservation for each meal so we can order enough food.
URL:https://iukamethodist.com/event/wonderful-wednesday-4/2029-06-27/
LOCATION:Iuka Methodist Church\, 101 East Eastport St.\, Iuka\, MS\, 38852\, United States
ATTACH;FMTTYPE=image/jpeg:https://iukamethodist.com/wp-content/uploads/2026/03/prayer20hands20sized.jpg
END:VEVENT
BEGIN:VEVENT
DTSTART;TZID=UTC:20290701T090000
DTEND;TZID=UTC:20290701T120000
DTSTAMP:20260422T221113
CREATED:20260306T202906Z
LAST-MODIFIED:20260312T161233Z
UID:10000477-1877590800-1877601600@iukamethodist.com
SUMMARY:Sunday Worship
DESCRIPTION:Common Grounds Worship  9:00 A.M. \nSunday School.    10:00 A.M. \nTraditional Worship.  11:00 A.M.
URL:https://iukamethodist.com/event/sunday-worship-3/2029-07-01/
LOCATION:Iuka Methodist Church\, 101 East Eastport St.\, Iuka\, MS\, 38852\, United States
ATTACH;FMTTYPE=image/jpeg:https://iukamethodist.com/wp-content/uploads/2026/03/bible.jpeg
END:VEVENT
BEGIN:VEVENT
DTSTART;TZID=UTC:20290702T180000
DTEND;TZID=UTC:20290702T200000
DTSTAMP:20260422T221113
CREATED:20260306T201135Z
LAST-MODIFIED:20260311T155742Z
UID:10000955-1877709600-1877716800@iukamethodist.com
SUMMARY:Tishomingo Jam
DESCRIPTION: 
URL:https://iukamethodist.com/event/tishomingo-jam-2/2029-07-02/
LOCATION:Iuka Methodist Church\, 101 East Eastport St.\, Iuka\, MS\, 38852\, United States
ATTACH;FMTTYPE=image/jpeg:https://iukamethodist.com/wp-content/uploads/2026/01/526548975_3553752741428594_4412842756949622737_n.jpg
END:VEVENT
BEGIN:VEVENT
DTSTART;TZID=UTC:20290703T100000
DTEND;TZID=UTC:20290703T120000
DTSTAMP:20260422T221113
CREATED:20260306T203321Z
LAST-MODIFIED:20260311T155514Z
UID:10000779-1877767200-1877774400@iukamethodist.com
SUMMARY:Prayer Shawl Ministry
DESCRIPTION:Our mission is to create prayer shawls\, baby blankets\, hats\, scarves and throws for those in need of prayers and praises.\nAnyone is welcome to join. We provide instruction for those who want to learn how to crochet or knit.\nContact Iuka Methodist Church office for more information. \n1st and 3rd Tuesdays @ 10am \n2nd and 4th Tuesdays @ 5pm \nSuzanne Rutledge classroom
URL:https://iukamethodist.com/event/prayer-shawl-ministry-7/2029-07-03/
LOCATION:Iuka Methodist Church\, 101 East Eastport St.\, Iuka\, MS\, 38852\, United States
ATTACH;FMTTYPE=image/jpeg:https://iukamethodist.com/wp-content/uploads/2026/02/20250428_141238-scaled.jpg
END:VEVENT
BEGIN:VEVENT
DTSTART;TZID=UTC:20290704T173000
DTEND;TZID=UTC:20290704T190000
DTSTAMP:20260422T221113
CREATED:20260306T204636Z
LAST-MODIFIED:20260312T162043Z
UID:10000224-1877880600-1877886000@iukamethodist.com
SUMMARY:Wonderful Wednesday
DESCRIPTION:To reserve a meal\, please call the church office by 12:00 p.m. on Monday. If you need to cancel\, please do so before noon on Monday. \nThe cost for adults is $7.00 and $5.00 for children 10 and under. Come eat then stay for one of our studies or Choir practice. Please make a reservation for each meal so we can order enough food.
URL:https://iukamethodist.com/event/wonderful-wednesday-4/2029-07-04/
LOCATION:Iuka Methodist Church\, 101 East Eastport St.\, Iuka\, MS\, 38852\, United States
ATTACH;FMTTYPE=image/jpeg:https://iukamethodist.com/wp-content/uploads/2026/03/prayer20hands20sized.jpg
END:VEVENT
BEGIN:VEVENT
DTSTART;TZID=UTC:20290708T090000
DTEND;TZID=UTC:20290708T120000
DTSTAMP:20260422T221113
CREATED:20260306T202906Z
LAST-MODIFIED:20260312T161233Z
UID:10000478-1878195600-1878206400@iukamethodist.com
SUMMARY:Sunday Worship
DESCRIPTION:Common Grounds Worship  9:00 A.M. \nSunday School.    10:00 A.M. \nTraditional Worship.  11:00 A.M.
URL:https://iukamethodist.com/event/sunday-worship-3/2029-07-08/
LOCATION:Iuka Methodist Church\, 101 East Eastport St.\, Iuka\, MS\, 38852\, United States
ATTACH;FMTTYPE=image/jpeg:https://iukamethodist.com/wp-content/uploads/2026/03/bible.jpeg
END:VEVENT
BEGIN:VEVENT
DTSTART;TZID=UTC:20290710T170000
DTEND;TZID=UTC:20290710T190000
DTSTAMP:20260422T221113
CREATED:20260306T203438Z
LAST-MODIFIED:20260311T155429Z
UID:10000720-1878397200-1878404400@iukamethodist.com
SUMMARY:Prayer Shawl Ministry
DESCRIPTION:Our mission is to create prayer shawls\, baby blankets\, hats\, scarves and throws for those in need of prayers and praises.\nAnyone is welcome to join. We provide instruction for those who want to learn how to crochet or knit.\nContact Iuka Methodist Church office for more information. \n1st and 3rd Tuesdays @ 10am \n2nd and 4th Tuesdays @ 5pm \nSuzanne Rutledge classroom
URL:https://iukamethodist.com/event/prayer-shawl-ministry-8/2029-07-10/
LOCATION:Iuka Methodist Church\, 101 East Eastport St.\, Iuka\, MS\, 38852\, United States
ATTACH;FMTTYPE=image/jpeg:https://iukamethodist.com/wp-content/uploads/2026/02/20250428_141238-scaled.jpg
END:VEVENT
BEGIN:VEVENT
DTSTART;TZID=UTC:20290710T180000
DTEND;TZID=UTC:20290710T200000
DTSTAMP:20260422T221113
CREATED:20260306T201952Z
LAST-MODIFIED:20260311T155604Z
UID:10000838-1878400800-1878408000@iukamethodist.com
SUMMARY:Northeast Mississippi Songwriters
DESCRIPTION:
URL:https://iukamethodist.com/event/northeast-mississippi-songwriters-2/2029-07-10/
LOCATION:Iuka Methodist Church\, 101 East Eastport St.\, Iuka\, MS\, 38852\, United States
END:VEVENT
BEGIN:VEVENT
DTSTART;TZID=UTC:20290711T173000
DTEND;TZID=UTC:20290711T190000
DTSTAMP:20260422T221113
CREATED:20260306T204636Z
LAST-MODIFIED:20260312T162043Z
UID:10000225-1878485400-1878490800@iukamethodist.com
SUMMARY:Wonderful Wednesday
DESCRIPTION:To reserve a meal\, please call the church office by 12:00 p.m. on Monday. If you need to cancel\, please do so before noon on Monday. \nThe cost for adults is $7.00 and $5.00 for children 10 and under. Come eat then stay for one of our studies or Choir practice. Please make a reservation for each meal so we can order enough food.
URL:https://iukamethodist.com/event/wonderful-wednesday-4/2029-07-11/
LOCATION:Iuka Methodist Church\, 101 East Eastport St.\, Iuka\, MS\, 38852\, United States
ATTACH;FMTTYPE=image/jpeg:https://iukamethodist.com/wp-content/uploads/2026/03/prayer20hands20sized.jpg
END:VEVENT
BEGIN:VEVENT
DTSTART;TZID=UTC:20290715T090000
DTEND;TZID=UTC:20290715T120000
DTSTAMP:20260422T221113
CREATED:20260306T202906Z
LAST-MODIFIED:20260312T161233Z
UID:10000479-1878800400-1878811200@iukamethodist.com
SUMMARY:Sunday Worship
DESCRIPTION:Common Grounds Worship  9:00 A.M. \nSunday School.    10:00 A.M. \nTraditional Worship.  11:00 A.M.
URL:https://iukamethodist.com/event/sunday-worship-3/2029-07-15/
LOCATION:Iuka Methodist Church\, 101 East Eastport St.\, Iuka\, MS\, 38852\, United States
ATTACH;FMTTYPE=image/jpeg:https://iukamethodist.com/wp-content/uploads/2026/03/bible.jpeg
END:VEVENT
BEGIN:VEVENT
DTSTART;TZID=UTC:20290716T180000
DTEND;TZID=UTC:20290716T200000
DTSTAMP:20260422T221113
CREATED:20260306T202503Z
LAST-MODIFIED:20260311T155704Z
UID:10000897-1878919200-1878926400@iukamethodist.com
SUMMARY:Tishomingo Jam
DESCRIPTION: 
URL:https://iukamethodist.com/event/tishomingo-jam-4/2029-07-16/
LOCATION:Iuka Methodist Church\, 101 East Eastport St.\, Iuka\, MS\, 38852\, United States
ATTACH;FMTTYPE=image/jpeg:https://iukamethodist.com/wp-content/uploads/2026/01/526548975_3553752741428594_4412842756949622737_n.jpg
END:VEVENT
BEGIN:VEVENT
DTSTART;TZID=UTC:20290717T100000
DTEND;TZID=UTC:20290717T120000
DTSTAMP:20260422T221113
CREATED:20260306T203645Z
LAST-MODIFIED:20260311T160707Z
UID:10001015-1878976800-1878984000@iukamethodist.com
SUMMARY:Prayer Shawl Ministry
DESCRIPTION:Our mission is to create prayer shawls\, baby blankets\, hats\, scarves and throws for those in need of prayers and praises.\nAnyone is welcome to join. We provide instruction for those who want to learn how to crochet or knit.\nContact Iuka Methodist Church office for more information. \n1st and 3rd Tuesdays @ 10am \n2nd and 4th Tuesdays @ 5pm \nSuzanne Rutledge classroom
URL:https://iukamethodist.com/event/prayer-shawl-ministry-9/2029-07-17/
LOCATION:Iuka Methodist Church\, 101 East Eastport St.\, Iuka\, MS\, 38852\, United States
ATTACH;FMTTYPE=image/jpeg:https://iukamethodist.com/wp-content/uploads/2026/02/20250428_141238-scaled.jpg
END:VEVENT
BEGIN:VEVENT
DTSTART;TZID=UTC:20290718T173000
DTEND;TZID=UTC:20290718T190000
DTSTAMP:20260422T221113
CREATED:20260306T204636Z
LAST-MODIFIED:20260312T162043Z
UID:10000226-1879090200-1879095600@iukamethodist.com
SUMMARY:Wonderful Wednesday
DESCRIPTION:To reserve a meal\, please call the church office by 12:00 p.m. on Monday. If you need to cancel\, please do so before noon on Monday. \nThe cost for adults is $7.00 and $5.00 for children 10 and under. Come eat then stay for one of our studies or Choir practice. Please make a reservation for each meal so we can order enough food.
URL:https://iukamethodist.com/event/wonderful-wednesday-4/2029-07-18/
LOCATION:Iuka Methodist Church\, 101 East Eastport St.\, Iuka\, MS\, 38852\, United States
ATTACH;FMTTYPE=image/jpeg:https://iukamethodist.com/wp-content/uploads/2026/03/prayer20hands20sized.jpg
END:VEVENT
BEGIN:VEVENT
DTSTART;TZID=UTC:20290722T090000
DTEND;TZID=UTC:20290722T120000
DTSTAMP:20260422T221113
CREATED:20260306T202906Z
LAST-MODIFIED:20260312T161233Z
UID:10000480-1879405200-1879416000@iukamethodist.com
SUMMARY:Sunday Worship
DESCRIPTION:Common Grounds Worship  9:00 A.M. \nSunday School.    10:00 A.M. \nTraditional Worship.  11:00 A.M.
URL:https://iukamethodist.com/event/sunday-worship-3/2029-07-22/
LOCATION:Iuka Methodist Church\, 101 East Eastport St.\, Iuka\, MS\, 38852\, United States
ATTACH;FMTTYPE=image/jpeg:https://iukamethodist.com/wp-content/uploads/2026/03/bible.jpeg
END:VEVENT
BEGIN:VEVENT
DTSTART;TZID=UTC:20290724T170000
DTEND;TZID=UTC:20290724T183000
DTSTAMP:20260422T221113
CREATED:20260306T203836Z
LAST-MODIFIED:20260311T160951Z
UID:10001073-1879606800-1879612200@iukamethodist.com
SUMMARY:Prayer Shawl Ministry
DESCRIPTION:Our mission is to create prayer shawls\, baby blankets\, hats\, scarves and throws for those in need of prayers and praises.\nAnyone is welcome to join. We provide instruction for those who want to learn how to crochet or knit.\nContact Iuka Methodist Church office for more information. \n1st and 3rd Tuesdays @ 10am \n2nd and 4th Tuesdays @ 5pm \nSuzanne Rutledge classroom
URL:https://iukamethodist.com/event/prayer-shawl-ministry-10/2029-07-24/
LOCATION:Iuka Methodist Church\, 101 East Eastport St.\, Iuka\, MS\, 38852\, United States
ATTACH;FMTTYPE=image/jpeg:https://iukamethodist.com/wp-content/uploads/2026/02/20250428_141238-scaled.jpg
END:VEVENT
BEGIN:VEVENT
DTSTART;TZID=UTC:20290725T173000
DTEND;TZID=UTC:20290725T190000
DTSTAMP:20260422T221113
CREATED:20260306T204636Z
LAST-MODIFIED:20260312T162043Z
UID:10000227-1879695000-1879700400@iukamethodist.com
SUMMARY:Wonderful Wednesday
DESCRIPTION:To reserve a meal\, please call the church office by 12:00 p.m. on Monday. If you need to cancel\, please do so before noon on Monday. \nThe cost for adults is $7.00 and $5.00 for children 10 and under. Come eat then stay for one of our studies or Choir practice. Please make a reservation for each meal so we can order enough food.
URL:https://iukamethodist.com/event/wonderful-wednesday-4/2029-07-25/
LOCATION:Iuka Methodist Church\, 101 East Eastport St.\, Iuka\, MS\, 38852\, United States
ATTACH;FMTTYPE=image/jpeg:https://iukamethodist.com/wp-content/uploads/2026/03/prayer20hands20sized.jpg
END:VEVENT
BEGIN:VEVENT
DTSTART;TZID=UTC:20290729T090000
DTEND;TZID=UTC:20290729T120000
DTSTAMP:20260422T221113
CREATED:20260306T202906Z
LAST-MODIFIED:20260312T161233Z
UID:10000481-1880010000-1880020800@iukamethodist.com
SUMMARY:Sunday Worship
DESCRIPTION:Common Grounds Worship  9:00 A.M. \nSunday School.    10:00 A.M. \nTraditional Worship.  11:00 A.M.
URL:https://iukamethodist.com/event/sunday-worship-3/2029-07-29/
LOCATION:Iuka Methodist Church\, 101 East Eastport St.\, Iuka\, MS\, 38852\, United States
ATTACH;FMTTYPE=image/jpeg:https://iukamethodist.com/wp-content/uploads/2026/03/bible.jpeg
END:VEVENT
BEGIN:VEVENT
DTSTART;TZID=UTC:20290801T173000
DTEND;TZID=UTC:20290801T190000
DTSTAMP:20260422T221113
CREATED:20260306T204636Z
LAST-MODIFIED:20260312T162043Z
UID:10000228-1880299800-1880305200@iukamethodist.com
SUMMARY:Wonderful Wednesday
DESCRIPTION:To reserve a meal\, please call the church office by 12:00 p.m. on Monday. If you need to cancel\, please do so before noon on Monday. \nThe cost for adults is $7.00 and $5.00 for children 10 and under. Come eat then stay for one of our studies or Choir practice. Please make a reservation for each meal so we can order enough food.
URL:https://iukamethodist.com/event/wonderful-wednesday-4/2029-08-01/
LOCATION:Iuka Methodist Church\, 101 East Eastport St.\, Iuka\, MS\, 38852\, United States
ATTACH;FMTTYPE=image/jpeg:https://iukamethodist.com/wp-content/uploads/2026/03/prayer20hands20sized.jpg
END:VEVENT
BEGIN:VEVENT
DTSTART;TZID=UTC:20290805T090000
DTEND;TZID=UTC:20290805T120000
DTSTAMP:20260422T221113
CREATED:20260306T202906Z
LAST-MODIFIED:20260312T161233Z
UID:10000482-1880614800-1880625600@iukamethodist.com
SUMMARY:Sunday Worship
DESCRIPTION:Common Grounds Worship  9:00 A.M. \nSunday School.    10:00 A.M. \nTraditional Worship.  11:00 A.M.
URL:https://iukamethodist.com/event/sunday-worship-3/2029-08-05/
LOCATION:Iuka Methodist Church\, 101 East Eastport St.\, Iuka\, MS\, 38852\, United States
ATTACH;FMTTYPE=image/jpeg:https://iukamethodist.com/wp-content/uploads/2026/03/bible.jpeg
END:VEVENT
BEGIN:VEVENT
DTSTART;TZID=UTC:20290806T180000
DTEND;TZID=UTC:20290806T200000
DTSTAMP:20260422T221113
CREATED:20260306T201135Z
LAST-MODIFIED:20260311T155742Z
UID:10000956-1880733600-1880740800@iukamethodist.com
SUMMARY:Tishomingo Jam
DESCRIPTION: 
URL:https://iukamethodist.com/event/tishomingo-jam-2/2029-08-06/
LOCATION:Iuka Methodist Church\, 101 East Eastport St.\, Iuka\, MS\, 38852\, United States
ATTACH;FMTTYPE=image/jpeg:https://iukamethodist.com/wp-content/uploads/2026/01/526548975_3553752741428594_4412842756949622737_n.jpg
END:VEVENT
BEGIN:VEVENT
DTSTART;TZID=UTC:20290807T100000
DTEND;TZID=UTC:20290807T120000
DTSTAMP:20260422T221113
CREATED:20260306T203321Z
LAST-MODIFIED:20260311T155514Z
UID:10000780-1880791200-1880798400@iukamethodist.com
SUMMARY:Prayer Shawl Ministry
DESCRIPTION:Our mission is to create prayer shawls\, baby blankets\, hats\, scarves and throws for those in need of prayers and praises.\nAnyone is welcome to join. We provide instruction for those who want to learn how to crochet or knit.\nContact Iuka Methodist Church office for more information. \n1st and 3rd Tuesdays @ 10am \n2nd and 4th Tuesdays @ 5pm \nSuzanne Rutledge classroom
URL:https://iukamethodist.com/event/prayer-shawl-ministry-7/2029-08-07/
LOCATION:Iuka Methodist Church\, 101 East Eastport St.\, Iuka\, MS\, 38852\, United States
ATTACH;FMTTYPE=image/jpeg:https://iukamethodist.com/wp-content/uploads/2026/02/20250428_141238-scaled.jpg
END:VEVENT
BEGIN:VEVENT
DTSTART;TZID=UTC:20290808T173000
DTEND;TZID=UTC:20290808T190000
DTSTAMP:20260422T221113
CREATED:20260306T204636Z
LAST-MODIFIED:20260312T162043Z
UID:10000229-1880904600-1880910000@iukamethodist.com
SUMMARY:Wonderful Wednesday
DESCRIPTION:To reserve a meal\, please call the church office by 12:00 p.m. on Monday. If you need to cancel\, please do so before noon on Monday. \nThe cost for adults is $7.00 and $5.00 for children 10 and under. Come eat then stay for one of our studies or Choir practice. Please make a reservation for each meal so we can order enough food.
URL:https://iukamethodist.com/event/wonderful-wednesday-4/2029-08-08/
LOCATION:Iuka Methodist Church\, 101 East Eastport St.\, Iuka\, MS\, 38852\, United States
ATTACH;FMTTYPE=image/jpeg:https://iukamethodist.com/wp-content/uploads/2026/03/prayer20hands20sized.jpg
END:VEVENT
BEGIN:VEVENT
DTSTART;TZID=UTC:20290812T090000
DTEND;TZID=UTC:20290812T120000
DTSTAMP:20260422T221113
CREATED:20260306T202906Z
LAST-MODIFIED:20260312T161233Z
UID:10000483-1881219600-1881230400@iukamethodist.com
SUMMARY:Sunday Worship
DESCRIPTION:Common Grounds Worship  9:00 A.M. \nSunday School.    10:00 A.M. \nTraditional Worship.  11:00 A.M.
URL:https://iukamethodist.com/event/sunday-worship-3/2029-08-12/
LOCATION:Iuka Methodist Church\, 101 East Eastport St.\, Iuka\, MS\, 38852\, United States
ATTACH;FMTTYPE=image/jpeg:https://iukamethodist.com/wp-content/uploads/2026/03/bible.jpeg
END:VEVENT
BEGIN:VEVENT
DTSTART;TZID=UTC:20290814T170000
DTEND;TZID=UTC:20290814T190000
DTSTAMP:20260422T221113
CREATED:20260306T203438Z
LAST-MODIFIED:20260311T155429Z
UID:10000721-1881421200-1881428400@iukamethodist.com
SUMMARY:Prayer Shawl Ministry
DESCRIPTION:Our mission is to create prayer shawls\, baby blankets\, hats\, scarves and throws for those in need of prayers and praises.\nAnyone is welcome to join. We provide instruction for those who want to learn how to crochet or knit.\nContact Iuka Methodist Church office for more information. \n1st and 3rd Tuesdays @ 10am \n2nd and 4th Tuesdays @ 5pm \nSuzanne Rutledge classroom
URL:https://iukamethodist.com/event/prayer-shawl-ministry-8/2029-08-14/
LOCATION:Iuka Methodist Church\, 101 East Eastport St.\, Iuka\, MS\, 38852\, United States
ATTACH;FMTTYPE=image/jpeg:https://iukamethodist.com/wp-content/uploads/2026/02/20250428_141238-scaled.jpg
END:VEVENT
BEGIN:VEVENT
DTSTART;TZID=UTC:20290814T180000
DTEND;TZID=UTC:20290814T200000
DTSTAMP:20260422T221113
CREATED:20260306T201952Z
LAST-MODIFIED:20260311T155604Z
UID:10000839-1881424800-1881432000@iukamethodist.com
SUMMARY:Northeast Mississippi Songwriters
DESCRIPTION:
URL:https://iukamethodist.com/event/northeast-mississippi-songwriters-2/2029-08-14/
LOCATION:Iuka Methodist Church\, 101 East Eastport St.\, Iuka\, MS\, 38852\, United States
END:VEVENT
BEGIN:VEVENT
DTSTART;TZID=UTC:20290815T173000
DTEND;TZID=UTC:20290815T190000
DTSTAMP:20260422T221113
CREATED:20260306T204636Z
LAST-MODIFIED:20260312T162043Z
UID:10000230-1881509400-1881514800@iukamethodist.com
SUMMARY:Wonderful Wednesday
DESCRIPTION:To reserve a meal\, please call the church office by 12:00 p.m. on Monday. If you need to cancel\, please do so before noon on Monday. \nThe cost for adults is $7.00 and $5.00 for children 10 and under. Come eat then stay for one of our studies or Choir practice. Please make a reservation for each meal so we can order enough food.
URL:https://iukamethodist.com/event/wonderful-wednesday-4/2029-08-15/
LOCATION:Iuka Methodist Church\, 101 East Eastport St.\, Iuka\, MS\, 38852\, United States
ATTACH;FMTTYPE=image/jpeg:https://iukamethodist.com/wp-content/uploads/2026/03/prayer20hands20sized.jpg
END:VEVENT
BEGIN:VEVENT
DTSTART;TZID=UTC:20290819T090000
DTEND;TZID=UTC:20290819T120000
DTSTAMP:20260422T221113
CREATED:20260306T202906Z
LAST-MODIFIED:20260312T161233Z
UID:10000484-1881824400-1881835200@iukamethodist.com
SUMMARY:Sunday Worship
DESCRIPTION:Common Grounds Worship  9:00 A.M. \nSunday School.    10:00 A.M. \nTraditional Worship.  11:00 A.M.
URL:https://iukamethodist.com/event/sunday-worship-3/2029-08-19/
LOCATION:Iuka Methodist Church\, 101 East Eastport St.\, Iuka\, MS\, 38852\, United States
ATTACH;FMTTYPE=image/jpeg:https://iukamethodist.com/wp-content/uploads/2026/03/bible.jpeg
END:VEVENT
BEGIN:VEVENT
DTSTART;TZID=UTC:20290820T180000
DTEND;TZID=UTC:20290820T200000
DTSTAMP:20260422T221113
CREATED:20260306T202503Z
LAST-MODIFIED:20260311T155704Z
UID:10000898-1881943200-1881950400@iukamethodist.com
SUMMARY:Tishomingo Jam
DESCRIPTION: 
URL:https://iukamethodist.com/event/tishomingo-jam-4/2029-08-20/
LOCATION:Iuka Methodist Church\, 101 East Eastport St.\, Iuka\, MS\, 38852\, United States
ATTACH;FMTTYPE=image/jpeg:https://iukamethodist.com/wp-content/uploads/2026/01/526548975_3553752741428594_4412842756949622737_n.jpg
END:VEVENT
BEGIN:VEVENT
DTSTART;TZID=UTC:20290821T100000
DTEND;TZID=UTC:20290821T120000
DTSTAMP:20260422T221113
CREATED:20260306T203645Z
LAST-MODIFIED:20260311T160707Z
UID:10001016-1882000800-1882008000@iukamethodist.com
SUMMARY:Prayer Shawl Ministry
DESCRIPTION:Our mission is to create prayer shawls\, baby blankets\, hats\, scarves and throws for those in need of prayers and praises.\nAnyone is welcome to join. We provide instruction for those who want to learn how to crochet or knit.\nContact Iuka Methodist Church office for more information. \n1st and 3rd Tuesdays @ 10am \n2nd and 4th Tuesdays @ 5pm \nSuzanne Rutledge classroom
URL:https://iukamethodist.com/event/prayer-shawl-ministry-9/2029-08-21/
LOCATION:Iuka Methodist Church\, 101 East Eastport St.\, Iuka\, MS\, 38852\, United States
ATTACH;FMTTYPE=image/jpeg:https://iukamethodist.com/wp-content/uploads/2026/02/20250428_141238-scaled.jpg
END:VEVENT
BEGIN:VEVENT
DTSTART;TZID=UTC:20290822T173000
DTEND;TZID=UTC:20290822T190000
DTSTAMP:20260422T221113
CREATED:20260306T204636Z
LAST-MODIFIED:20260312T162043Z
UID:10000231-1882114200-1882119600@iukamethodist.com
SUMMARY:Wonderful Wednesday
DESCRIPTION:To reserve a meal\, please call the church office by 12:00 p.m. on Monday. If you need to cancel\, please do so before noon on Monday. \nThe cost for adults is $7.00 and $5.00 for children 10 and under. Come eat then stay for one of our studies or Choir practice. Please make a reservation for each meal so we can order enough food.
URL:https://iukamethodist.com/event/wonderful-wednesday-4/2029-08-22/
LOCATION:Iuka Methodist Church\, 101 East Eastport St.\, Iuka\, MS\, 38852\, United States
ATTACH;FMTTYPE=image/jpeg:https://iukamethodist.com/wp-content/uploads/2026/03/prayer20hands20sized.jpg
END:VEVENT
END:VCALENDAR