BEGIN:VCALENDAR
VERSION:2.0
PRODID:-//Iuka Methodist Church - ECPv6.15.20//NONSGML v1.0//EN
CALSCALE:GREGORIAN
METHOD:PUBLISH
X-ORIGINAL-URL:https://iukamethodist.com
X-WR-CALDESC:Events for Iuka Methodist Church
REFRESH-INTERVAL;VALUE=DURATION:PT1H
X-Robots-Tag:noindex
X-PUBLISHED-TTL:PT1H
BEGIN:VTIMEZONE
TZID:UTC
BEGIN:STANDARD
TZOFFSETFROM:+0000
TZOFFSETTO:+0000
TZNAME:UTC
DTSTART:20270101T000000
END:STANDARD
END:VTIMEZONE
BEGIN:VEVENT
DTSTART;TZID=UTC:20280926T170000
DTEND;TZID=UTC:20280926T183000
DTSTAMP:20260421T223839
CREATED:20260306T203836Z
LAST-MODIFIED:20260311T160951Z
UID:10001063-1853600400-1853605800@iukamethodist.com
SUMMARY:Prayer Shawl Ministry
DESCRIPTION:Our mission is to create prayer shawls\, baby blankets\, hats\, scarves and throws for those in need of prayers and praises.\nAnyone is welcome to join. We provide instruction for those who want to learn how to crochet or knit.\nContact Iuka Methodist Church office for more information. \n1st and 3rd Tuesdays @ 10am \n2nd and 4th Tuesdays @ 5pm \nSuzanne Rutledge classroom
URL:https://iukamethodist.com/event/prayer-shawl-ministry-10/2028-09-26/
LOCATION:Iuka Methodist Church\, 101 East Eastport St.\, Iuka\, MS\, 38852\, United States
ATTACH;FMTTYPE=image/jpeg:https://iukamethodist.com/wp-content/uploads/2026/02/20250428_141238-scaled.jpg
END:VEVENT
BEGIN:VEVENT
DTSTART;TZID=UTC:20280927T173000
DTEND;TZID=UTC:20280927T190000
DTSTAMP:20260421T223839
CREATED:20260306T204636Z
LAST-MODIFIED:20260312T162043Z
UID:10000184-1853688600-1853694000@iukamethodist.com
SUMMARY:Wonderful Wednesday
DESCRIPTION:To reserve a meal\, please call the church office by 12:00 p.m. on Monday. If you need to cancel\, please do so before noon on Monday. \nThe cost for adults is $7.00 and $5.00 for children 10 and under. Come eat then stay for one of our studies or Choir practice. Please make a reservation for each meal so we can order enough food.
URL:https://iukamethodist.com/event/wonderful-wednesday-4/2028-09-27/
LOCATION:Iuka Methodist Church\, 101 East Eastport St.\, Iuka\, MS\, 38852\, United States
ATTACH;FMTTYPE=image/jpeg:https://iukamethodist.com/wp-content/uploads/2026/03/prayer20hands20sized.jpg
END:VEVENT
BEGIN:VEVENT
DTSTART;TZID=UTC:20281001T090000
DTEND;TZID=UTC:20281001T120000
DTSTAMP:20260421T223839
CREATED:20260306T202906Z
LAST-MODIFIED:20260312T161233Z
UID:10000438-1854003600-1854014400@iukamethodist.com
SUMMARY:Sunday Worship
DESCRIPTION:Common Grounds Worship  9:00 A.M. \nSunday School.    10:00 A.M. \nTraditional Worship.  11:00 A.M.
URL:https://iukamethodist.com/event/sunday-worship-3/2028-10-01/
LOCATION:Iuka Methodist Church\, 101 East Eastport St.\, Iuka\, MS\, 38852\, United States
ATTACH;FMTTYPE=image/jpeg:https://iukamethodist.com/wp-content/uploads/2026/03/bible.jpeg
END:VEVENT
BEGIN:VEVENT
DTSTART;TZID=UTC:20281002T180000
DTEND;TZID=UTC:20281002T200000
DTSTAMP:20260421T223839
CREATED:20260306T201135Z
LAST-MODIFIED:20260311T155742Z
UID:10000946-1854122400-1854129600@iukamethodist.com
SUMMARY:Tishomingo Jam
DESCRIPTION: 
URL:https://iukamethodist.com/event/tishomingo-jam-2/2028-10-02/
LOCATION:Iuka Methodist Church\, 101 East Eastport St.\, Iuka\, MS\, 38852\, United States
ATTACH;FMTTYPE=image/jpeg:https://iukamethodist.com/wp-content/uploads/2026/01/526548975_3553752741428594_4412842756949622737_n.jpg
END:VEVENT
BEGIN:VEVENT
DTSTART;TZID=UTC:20281003T100000
DTEND;TZID=UTC:20281003T120000
DTSTAMP:20260421T223839
CREATED:20260306T203321Z
LAST-MODIFIED:20260311T155514Z
UID:10000770-1854180000-1854187200@iukamethodist.com
SUMMARY:Prayer Shawl Ministry
DESCRIPTION:Our mission is to create prayer shawls\, baby blankets\, hats\, scarves and throws for those in need of prayers and praises.\nAnyone is welcome to join. We provide instruction for those who want to learn how to crochet or knit.\nContact Iuka Methodist Church office for more information. \n1st and 3rd Tuesdays @ 10am \n2nd and 4th Tuesdays @ 5pm \nSuzanne Rutledge classroom
URL:https://iukamethodist.com/event/prayer-shawl-ministry-7/2028-10-03/
LOCATION:Iuka Methodist Church\, 101 East Eastport St.\, Iuka\, MS\, 38852\, United States
ATTACH;FMTTYPE=image/jpeg:https://iukamethodist.com/wp-content/uploads/2026/02/20250428_141238-scaled.jpg
END:VEVENT
BEGIN:VEVENT
DTSTART;TZID=UTC:20281004T173000
DTEND;TZID=UTC:20281004T190000
DTSTAMP:20260421T223839
CREATED:20260306T204636Z
LAST-MODIFIED:20260312T162043Z
UID:10000185-1854293400-1854298800@iukamethodist.com
SUMMARY:Wonderful Wednesday
DESCRIPTION:To reserve a meal\, please call the church office by 12:00 p.m. on Monday. If you need to cancel\, please do so before noon on Monday. \nThe cost for adults is $7.00 and $5.00 for children 10 and under. Come eat then stay for one of our studies or Choir practice. Please make a reservation for each meal so we can order enough food.
URL:https://iukamethodist.com/event/wonderful-wednesday-4/2028-10-04/
LOCATION:Iuka Methodist Church\, 101 East Eastport St.\, Iuka\, MS\, 38852\, United States
ATTACH;FMTTYPE=image/jpeg:https://iukamethodist.com/wp-content/uploads/2026/03/prayer20hands20sized.jpg
END:VEVENT
BEGIN:VEVENT
DTSTART;TZID=UTC:20281008T090000
DTEND;TZID=UTC:20281008T120000
DTSTAMP:20260421T223839
CREATED:20260306T202906Z
LAST-MODIFIED:20260312T161233Z
UID:10000439-1854608400-1854619200@iukamethodist.com
SUMMARY:Sunday Worship
DESCRIPTION:Common Grounds Worship  9:00 A.M. \nSunday School.    10:00 A.M. \nTraditional Worship.  11:00 A.M.
URL:https://iukamethodist.com/event/sunday-worship-3/2028-10-08/
LOCATION:Iuka Methodist Church\, 101 East Eastport St.\, Iuka\, MS\, 38852\, United States
ATTACH;FMTTYPE=image/jpeg:https://iukamethodist.com/wp-content/uploads/2026/03/bible.jpeg
END:VEVENT
BEGIN:VEVENT
DTSTART;TZID=UTC:20281010T170000
DTEND;TZID=UTC:20281010T190000
DTSTAMP:20260421T223839
CREATED:20260306T203438Z
LAST-MODIFIED:20260311T155429Z
UID:10000711-1854810000-1854817200@iukamethodist.com
SUMMARY:Prayer Shawl Ministry
DESCRIPTION:Our mission is to create prayer shawls\, baby blankets\, hats\, scarves and throws for those in need of prayers and praises.\nAnyone is welcome to join. We provide instruction for those who want to learn how to crochet or knit.\nContact Iuka Methodist Church office for more information. \n1st and 3rd Tuesdays @ 10am \n2nd and 4th Tuesdays @ 5pm \nSuzanne Rutledge classroom
URL:https://iukamethodist.com/event/prayer-shawl-ministry-8/2028-10-10/
LOCATION:Iuka Methodist Church\, 101 East Eastport St.\, Iuka\, MS\, 38852\, United States
ATTACH;FMTTYPE=image/jpeg:https://iukamethodist.com/wp-content/uploads/2026/02/20250428_141238-scaled.jpg
END:VEVENT
BEGIN:VEVENT
DTSTART;TZID=UTC:20281010T180000
DTEND;TZID=UTC:20281010T200000
DTSTAMP:20260421T223839
CREATED:20260306T201952Z
LAST-MODIFIED:20260311T155604Z
UID:10000829-1854813600-1854820800@iukamethodist.com
SUMMARY:Northeast Mississippi Songwriters
DESCRIPTION:
URL:https://iukamethodist.com/event/northeast-mississippi-songwriters-2/2028-10-10/
LOCATION:Iuka Methodist Church\, 101 East Eastport St.\, Iuka\, MS\, 38852\, United States
END:VEVENT
BEGIN:VEVENT
DTSTART;TZID=UTC:20281011T173000
DTEND;TZID=UTC:20281011T190000
DTSTAMP:20260421T223839
CREATED:20260306T204636Z
LAST-MODIFIED:20260312T162043Z
UID:10000186-1854898200-1854903600@iukamethodist.com
SUMMARY:Wonderful Wednesday
DESCRIPTION:To reserve a meal\, please call the church office by 12:00 p.m. on Monday. If you need to cancel\, please do so before noon on Monday. \nThe cost for adults is $7.00 and $5.00 for children 10 and under. Come eat then stay for one of our studies or Choir practice. Please make a reservation for each meal so we can order enough food.
URL:https://iukamethodist.com/event/wonderful-wednesday-4/2028-10-11/
LOCATION:Iuka Methodist Church\, 101 East Eastport St.\, Iuka\, MS\, 38852\, United States
ATTACH;FMTTYPE=image/jpeg:https://iukamethodist.com/wp-content/uploads/2026/03/prayer20hands20sized.jpg
END:VEVENT
BEGIN:VEVENT
DTSTART;TZID=UTC:20281015T090000
DTEND;TZID=UTC:20281015T120000
DTSTAMP:20260421T223839
CREATED:20260306T202906Z
LAST-MODIFIED:20260312T161233Z
UID:10000440-1855213200-1855224000@iukamethodist.com
SUMMARY:Sunday Worship
DESCRIPTION:Common Grounds Worship  9:00 A.M. \nSunday School.    10:00 A.M. \nTraditional Worship.  11:00 A.M.
URL:https://iukamethodist.com/event/sunday-worship-3/2028-10-15/
LOCATION:Iuka Methodist Church\, 101 East Eastport St.\, Iuka\, MS\, 38852\, United States
ATTACH;FMTTYPE=image/jpeg:https://iukamethodist.com/wp-content/uploads/2026/03/bible.jpeg
END:VEVENT
BEGIN:VEVENT
DTSTART;TZID=UTC:20281016T180000
DTEND;TZID=UTC:20281016T200000
DTSTAMP:20260421T223839
CREATED:20260306T202503Z
LAST-MODIFIED:20260311T155704Z
UID:10000888-1855332000-1855339200@iukamethodist.com
SUMMARY:Tishomingo Jam
DESCRIPTION: 
URL:https://iukamethodist.com/event/tishomingo-jam-4/2028-10-16/
LOCATION:Iuka Methodist Church\, 101 East Eastport St.\, Iuka\, MS\, 38852\, United States
ATTACH;FMTTYPE=image/jpeg:https://iukamethodist.com/wp-content/uploads/2026/01/526548975_3553752741428594_4412842756949622737_n.jpg
END:VEVENT
BEGIN:VEVENT
DTSTART;TZID=UTC:20281017T100000
DTEND;TZID=UTC:20281017T120000
DTSTAMP:20260421T223839
CREATED:20260306T203645Z
LAST-MODIFIED:20260311T160707Z
UID:10001006-1855389600-1855396800@iukamethodist.com
SUMMARY:Prayer Shawl Ministry
DESCRIPTION:Our mission is to create prayer shawls\, baby blankets\, hats\, scarves and throws for those in need of prayers and praises.\nAnyone is welcome to join. We provide instruction for those who want to learn how to crochet or knit.\nContact Iuka Methodist Church office for more information. \n1st and 3rd Tuesdays @ 10am \n2nd and 4th Tuesdays @ 5pm \nSuzanne Rutledge classroom
URL:https://iukamethodist.com/event/prayer-shawl-ministry-9/2028-10-17/
LOCATION:Iuka Methodist Church\, 101 East Eastport St.\, Iuka\, MS\, 38852\, United States
ATTACH;FMTTYPE=image/jpeg:https://iukamethodist.com/wp-content/uploads/2026/02/20250428_141238-scaled.jpg
END:VEVENT
BEGIN:VEVENT
DTSTART;TZID=UTC:20281018T173000
DTEND;TZID=UTC:20281018T190000
DTSTAMP:20260421T223839
CREATED:20260306T204636Z
LAST-MODIFIED:20260312T162043Z
UID:10000187-1855503000-1855508400@iukamethodist.com
SUMMARY:Wonderful Wednesday
DESCRIPTION:To reserve a meal\, please call the church office by 12:00 p.m. on Monday. If you need to cancel\, please do so before noon on Monday. \nThe cost for adults is $7.00 and $5.00 for children 10 and under. Come eat then stay for one of our studies or Choir practice. Please make a reservation for each meal so we can order enough food.
URL:https://iukamethodist.com/event/wonderful-wednesday-4/2028-10-18/
LOCATION:Iuka Methodist Church\, 101 East Eastport St.\, Iuka\, MS\, 38852\, United States
ATTACH;FMTTYPE=image/jpeg:https://iukamethodist.com/wp-content/uploads/2026/03/prayer20hands20sized.jpg
END:VEVENT
BEGIN:VEVENT
DTSTART;TZID=UTC:20281022T090000
DTEND;TZID=UTC:20281022T120000
DTSTAMP:20260421T223839
CREATED:20260306T202906Z
LAST-MODIFIED:20260312T161233Z
UID:10000441-1855818000-1855828800@iukamethodist.com
SUMMARY:Sunday Worship
DESCRIPTION:Common Grounds Worship  9:00 A.M. \nSunday School.    10:00 A.M. \nTraditional Worship.  11:00 A.M.
URL:https://iukamethodist.com/event/sunday-worship-3/2028-10-22/
LOCATION:Iuka Methodist Church\, 101 East Eastport St.\, Iuka\, MS\, 38852\, United States
ATTACH;FMTTYPE=image/jpeg:https://iukamethodist.com/wp-content/uploads/2026/03/bible.jpeg
END:VEVENT
BEGIN:VEVENT
DTSTART;TZID=UTC:20281024T170000
DTEND;TZID=UTC:20281024T183000
DTSTAMP:20260421T223839
CREATED:20260306T203836Z
LAST-MODIFIED:20260311T160951Z
UID:10001064-1856019600-1856025000@iukamethodist.com
SUMMARY:Prayer Shawl Ministry
DESCRIPTION:Our mission is to create prayer shawls\, baby blankets\, hats\, scarves and throws for those in need of prayers and praises.\nAnyone is welcome to join. We provide instruction for those who want to learn how to crochet or knit.\nContact Iuka Methodist Church office for more information. \n1st and 3rd Tuesdays @ 10am \n2nd and 4th Tuesdays @ 5pm \nSuzanne Rutledge classroom
URL:https://iukamethodist.com/event/prayer-shawl-ministry-10/2028-10-24/
LOCATION:Iuka Methodist Church\, 101 East Eastport St.\, Iuka\, MS\, 38852\, United States
ATTACH;FMTTYPE=image/jpeg:https://iukamethodist.com/wp-content/uploads/2026/02/20250428_141238-scaled.jpg
END:VEVENT
BEGIN:VEVENT
DTSTART;TZID=UTC:20281025T173000
DTEND;TZID=UTC:20281025T190000
DTSTAMP:20260421T223839
CREATED:20260306T204636Z
LAST-MODIFIED:20260312T162043Z
UID:10000188-1856107800-1856113200@iukamethodist.com
SUMMARY:Wonderful Wednesday
DESCRIPTION:To reserve a meal\, please call the church office by 12:00 p.m. on Monday. If you need to cancel\, please do so before noon on Monday. \nThe cost for adults is $7.00 and $5.00 for children 10 and under. Come eat then stay for one of our studies or Choir practice. Please make a reservation for each meal so we can order enough food.
URL:https://iukamethodist.com/event/wonderful-wednesday-4/2028-10-25/
LOCATION:Iuka Methodist Church\, 101 East Eastport St.\, Iuka\, MS\, 38852\, United States
ATTACH;FMTTYPE=image/jpeg:https://iukamethodist.com/wp-content/uploads/2026/03/prayer20hands20sized.jpg
END:VEVENT
BEGIN:VEVENT
DTSTART;TZID=UTC:20281029T090000
DTEND;TZID=UTC:20281029T120000
DTSTAMP:20260421T223839
CREATED:20260306T202906Z
LAST-MODIFIED:20260312T161233Z
UID:10000442-1856422800-1856433600@iukamethodist.com
SUMMARY:Sunday Worship
DESCRIPTION:Common Grounds Worship  9:00 A.M. \nSunday School.    10:00 A.M. \nTraditional Worship.  11:00 A.M.
URL:https://iukamethodist.com/event/sunday-worship-3/2028-10-29/
LOCATION:Iuka Methodist Church\, 101 East Eastport St.\, Iuka\, MS\, 38852\, United States
ATTACH;FMTTYPE=image/jpeg:https://iukamethodist.com/wp-content/uploads/2026/03/bible.jpeg
END:VEVENT
BEGIN:VEVENT
DTSTART;TZID=UTC:20281101T173000
DTEND;TZID=UTC:20281101T190000
DTSTAMP:20260421T223839
CREATED:20260306T204636Z
LAST-MODIFIED:20260312T162043Z
UID:10000189-1856712600-1856718000@iukamethodist.com
SUMMARY:Wonderful Wednesday
DESCRIPTION:To reserve a meal\, please call the church office by 12:00 p.m. on Monday. If you need to cancel\, please do so before noon on Monday. \nThe cost for adults is $7.00 and $5.00 for children 10 and under. Come eat then stay for one of our studies or Choir practice. Please make a reservation for each meal so we can order enough food.
URL:https://iukamethodist.com/event/wonderful-wednesday-4/2028-11-01/
LOCATION:Iuka Methodist Church\, 101 East Eastport St.\, Iuka\, MS\, 38852\, United States
ATTACH;FMTTYPE=image/jpeg:https://iukamethodist.com/wp-content/uploads/2026/03/prayer20hands20sized.jpg
END:VEVENT
BEGIN:VEVENT
DTSTART;TZID=UTC:20281105T090000
DTEND;TZID=UTC:20281105T120000
DTSTAMP:20260421T223839
CREATED:20260306T202906Z
LAST-MODIFIED:20260312T161233Z
UID:10000443-1857027600-1857038400@iukamethodist.com
SUMMARY:Sunday Worship
DESCRIPTION:Common Grounds Worship  9:00 A.M. \nSunday School.    10:00 A.M. \nTraditional Worship.  11:00 A.M.
URL:https://iukamethodist.com/event/sunday-worship-3/2028-11-05/
LOCATION:Iuka Methodist Church\, 101 East Eastport St.\, Iuka\, MS\, 38852\, United States
ATTACH;FMTTYPE=image/jpeg:https://iukamethodist.com/wp-content/uploads/2026/03/bible.jpeg
END:VEVENT
BEGIN:VEVENT
DTSTART;TZID=UTC:20281106T180000
DTEND;TZID=UTC:20281106T200000
DTSTAMP:20260421T223839
CREATED:20260306T201135Z
LAST-MODIFIED:20260311T155742Z
UID:10000947-1857146400-1857153600@iukamethodist.com
SUMMARY:Tishomingo Jam
DESCRIPTION: 
URL:https://iukamethodist.com/event/tishomingo-jam-2/2028-11-06/
LOCATION:Iuka Methodist Church\, 101 East Eastport St.\, Iuka\, MS\, 38852\, United States
ATTACH;FMTTYPE=image/jpeg:https://iukamethodist.com/wp-content/uploads/2026/01/526548975_3553752741428594_4412842756949622737_n.jpg
END:VEVENT
BEGIN:VEVENT
DTSTART;TZID=UTC:20281107T100000
DTEND;TZID=UTC:20281107T120000
DTSTAMP:20260421T223839
CREATED:20260306T203321Z
LAST-MODIFIED:20260311T155514Z
UID:10000771-1857204000-1857211200@iukamethodist.com
SUMMARY:Prayer Shawl Ministry
DESCRIPTION:Our mission is to create prayer shawls\, baby blankets\, hats\, scarves and throws for those in need of prayers and praises.\nAnyone is welcome to join. We provide instruction for those who want to learn how to crochet or knit.\nContact Iuka Methodist Church office for more information. \n1st and 3rd Tuesdays @ 10am \n2nd and 4th Tuesdays @ 5pm \nSuzanne Rutledge classroom
URL:https://iukamethodist.com/event/prayer-shawl-ministry-7/2028-11-07/
LOCATION:Iuka Methodist Church\, 101 East Eastport St.\, Iuka\, MS\, 38852\, United States
ATTACH;FMTTYPE=image/jpeg:https://iukamethodist.com/wp-content/uploads/2026/02/20250428_141238-scaled.jpg
END:VEVENT
BEGIN:VEVENT
DTSTART;TZID=UTC:20281108T173000
DTEND;TZID=UTC:20281108T190000
DTSTAMP:20260421T223839
CREATED:20260306T204636Z
LAST-MODIFIED:20260312T162043Z
UID:10000190-1857317400-1857322800@iukamethodist.com
SUMMARY:Wonderful Wednesday
DESCRIPTION:To reserve a meal\, please call the church office by 12:00 p.m. on Monday. If you need to cancel\, please do so before noon on Monday. \nThe cost for adults is $7.00 and $5.00 for children 10 and under. Come eat then stay for one of our studies or Choir practice. Please make a reservation for each meal so we can order enough food.
URL:https://iukamethodist.com/event/wonderful-wednesday-4/2028-11-08/
LOCATION:Iuka Methodist Church\, 101 East Eastport St.\, Iuka\, MS\, 38852\, United States
ATTACH;FMTTYPE=image/jpeg:https://iukamethodist.com/wp-content/uploads/2026/03/prayer20hands20sized.jpg
END:VEVENT
BEGIN:VEVENT
DTSTART;TZID=UTC:20281112T090000
DTEND;TZID=UTC:20281112T120000
DTSTAMP:20260421T223839
CREATED:20260306T202906Z
LAST-MODIFIED:20260312T161233Z
UID:10000444-1857632400-1857643200@iukamethodist.com
SUMMARY:Sunday Worship
DESCRIPTION:Common Grounds Worship  9:00 A.M. \nSunday School.    10:00 A.M. \nTraditional Worship.  11:00 A.M.
URL:https://iukamethodist.com/event/sunday-worship-3/2028-11-12/
LOCATION:Iuka Methodist Church\, 101 East Eastport St.\, Iuka\, MS\, 38852\, United States
ATTACH;FMTTYPE=image/jpeg:https://iukamethodist.com/wp-content/uploads/2026/03/bible.jpeg
END:VEVENT
BEGIN:VEVENT
DTSTART;TZID=UTC:20281114T170000
DTEND;TZID=UTC:20281114T190000
DTSTAMP:20260421T223839
CREATED:20260306T203438Z
LAST-MODIFIED:20260311T155429Z
UID:10000712-1857834000-1857841200@iukamethodist.com
SUMMARY:Prayer Shawl Ministry
DESCRIPTION:Our mission is to create prayer shawls\, baby blankets\, hats\, scarves and throws for those in need of prayers and praises.\nAnyone is welcome to join. We provide instruction for those who want to learn how to crochet or knit.\nContact Iuka Methodist Church office for more information. \n1st and 3rd Tuesdays @ 10am \n2nd and 4th Tuesdays @ 5pm \nSuzanne Rutledge classroom
URL:https://iukamethodist.com/event/prayer-shawl-ministry-8/2028-11-14/
LOCATION:Iuka Methodist Church\, 101 East Eastport St.\, Iuka\, MS\, 38852\, United States
ATTACH;FMTTYPE=image/jpeg:https://iukamethodist.com/wp-content/uploads/2026/02/20250428_141238-scaled.jpg
END:VEVENT
BEGIN:VEVENT
DTSTART;TZID=UTC:20281114T180000
DTEND;TZID=UTC:20281114T200000
DTSTAMP:20260421T223839
CREATED:20260306T201952Z
LAST-MODIFIED:20260311T155604Z
UID:10000830-1857837600-1857844800@iukamethodist.com
SUMMARY:Northeast Mississippi Songwriters
DESCRIPTION:
URL:https://iukamethodist.com/event/northeast-mississippi-songwriters-2/2028-11-14/
LOCATION:Iuka Methodist Church\, 101 East Eastport St.\, Iuka\, MS\, 38852\, United States
END:VEVENT
BEGIN:VEVENT
DTSTART;TZID=UTC:20281115T173000
DTEND;TZID=UTC:20281115T190000
DTSTAMP:20260421T223839
CREATED:20260306T204636Z
LAST-MODIFIED:20260312T162043Z
UID:10000191-1857922200-1857927600@iukamethodist.com
SUMMARY:Wonderful Wednesday
DESCRIPTION:To reserve a meal\, please call the church office by 12:00 p.m. on Monday. If you need to cancel\, please do so before noon on Monday. \nThe cost for adults is $7.00 and $5.00 for children 10 and under. Come eat then stay for one of our studies or Choir practice. Please make a reservation for each meal so we can order enough food.
URL:https://iukamethodist.com/event/wonderful-wednesday-4/2028-11-15/
LOCATION:Iuka Methodist Church\, 101 East Eastport St.\, Iuka\, MS\, 38852\, United States
ATTACH;FMTTYPE=image/jpeg:https://iukamethodist.com/wp-content/uploads/2026/03/prayer20hands20sized.jpg
END:VEVENT
BEGIN:VEVENT
DTSTART;TZID=UTC:20281119T090000
DTEND;TZID=UTC:20281119T120000
DTSTAMP:20260421T223839
CREATED:20260306T202906Z
LAST-MODIFIED:20260312T161233Z
UID:10000445-1858237200-1858248000@iukamethodist.com
SUMMARY:Sunday Worship
DESCRIPTION:Common Grounds Worship  9:00 A.M. \nSunday School.    10:00 A.M. \nTraditional Worship.  11:00 A.M.
URL:https://iukamethodist.com/event/sunday-worship-3/2028-11-19/
LOCATION:Iuka Methodist Church\, 101 East Eastport St.\, Iuka\, MS\, 38852\, United States
ATTACH;FMTTYPE=image/jpeg:https://iukamethodist.com/wp-content/uploads/2026/03/bible.jpeg
END:VEVENT
BEGIN:VEVENT
DTSTART;TZID=UTC:20281120T180000
DTEND;TZID=UTC:20281120T200000
DTSTAMP:20260421T223839
CREATED:20260306T202503Z
LAST-MODIFIED:20260311T155704Z
UID:10000889-1858356000-1858363200@iukamethodist.com
SUMMARY:Tishomingo Jam
DESCRIPTION: 
URL:https://iukamethodist.com/event/tishomingo-jam-4/2028-11-20/
LOCATION:Iuka Methodist Church\, 101 East Eastport St.\, Iuka\, MS\, 38852\, United States
ATTACH;FMTTYPE=image/jpeg:https://iukamethodist.com/wp-content/uploads/2026/01/526548975_3553752741428594_4412842756949622737_n.jpg
END:VEVENT
BEGIN:VEVENT
DTSTART;TZID=UTC:20281121T100000
DTEND;TZID=UTC:20281121T120000
DTSTAMP:20260421T223839
CREATED:20260306T203645Z
LAST-MODIFIED:20260311T160707Z
UID:10001007-1858413600-1858420800@iukamethodist.com
SUMMARY:Prayer Shawl Ministry
DESCRIPTION:Our mission is to create prayer shawls\, baby blankets\, hats\, scarves and throws for those in need of prayers and praises.\nAnyone is welcome to join. We provide instruction for those who want to learn how to crochet or knit.\nContact Iuka Methodist Church office for more information. \n1st and 3rd Tuesdays @ 10am \n2nd and 4th Tuesdays @ 5pm \nSuzanne Rutledge classroom
URL:https://iukamethodist.com/event/prayer-shawl-ministry-9/2028-11-21/
LOCATION:Iuka Methodist Church\, 101 East Eastport St.\, Iuka\, MS\, 38852\, United States
ATTACH;FMTTYPE=image/jpeg:https://iukamethodist.com/wp-content/uploads/2026/02/20250428_141238-scaled.jpg
END:VEVENT
END:VCALENDAR